Workbook

Sheet 종합
B2: ■ 기아 2025년 10월 판매실적
B4: 구분 | D4: 2025 | E4: =D4-1 -> 2024 | F4: 전년동월 대비 | G4: =IF(D5=1,D4-1,D4) -> 2025 | H4: 전월 대비 | I4: =D4 -> 2025 | J4: =I4-1 -> 2024 | K4: 연간누계 대비
D5: 10 | E5: =D5 -> 10 | G5: =IF(D5=1,12,D5-1) -> 9 | I5: =D5 -> 10 | J5: =D5 -> 10
B6: 국내 | D6: =VLOOKUP(D5,'⊙ 월별'!B3:I15,2,0) -> 40001 | E6: =VLOOKUP(E5,'⊙ 월별'!B19:J31,2,0) -> 46025 | F6: =(D6-E6)/E6 -> -0.13088539 | G6: =VLOOKUP(G5,'⊙ 월별'!B3:J15,2,0) -> 49001 | H6: =(D6-G6)/G6 -> -0.18366972 | I6: ='⊙ 월별'!C15 -> 453943 | J6: =국내1!L34-국내1!L33 -> 445925 | K6: =(I6-J6)/J6 -> 0.017980602
B7: 해외 | D7: =VLOOKUP(D5,'⊙ 월별'!B3:I15,5,0) -> 223014 | E7: =VLOOKUP(E5,'⊙ 월별'!B19:J31,5,0) -> 218389 | F7: =(D7-E7)/E7 -> 0.021177807 | G7: =VLOOKUP(G5,'⊙ 월별'!B3:J15,5,0) -> 218929 | H7: =(D7-G7)/G7 -> 0.018659017 | I7: ='⊙ 월별'!F15 -> 2178148 | J7: =국내1!L35 -> 2133804 | K7: =(I7-J7)/J7 -> 0.020781665
C8: 국내 | D8: =VLOOKUP(D5,'⊙ 월별'!B3:K15,3,0) -> 343 | E8: =VLOOKUP(E5,'⊙ 월별'!B19:K31,3,0) -> 385 | F8: =(D8-E8)/E8 -> -0.10909091 | G8: =VLOOKUP(G5,'⊙ 월별'!B3:K15,3,0) -> 200 | H8: =(D8-G8)/G8 -> 0.715 | I8: ='⊙ 월별'!D15 -> 1509 | J8: =국내1!L33 -> 1697 | K8: =(I8-J8)/J8 -> -0.11078374
C9: 해외 | D9: =VLOOKUP(D5,'⊙ 월별'!B3:K15,6,0) -> 546 | E9: =VLOOKUP(E5,'⊙ 월별'!B19:K31,6,0) -> 545 | F9: =(D9-E9)/E9 -> 0.0018348624 | G9: =VLOOKUP(G5,'⊙ 월별'!B3:K15,6,0) -> 257 | H9: =(D9-G9)/G9 -> 1.1245136 | I9: ='⊙ 월별'!G15 -> 2977 | J9: =국내1!L36 -> 3233 | K9: =(I9-J9)/J9 -> -0.079183421
B10: 특수 차량 | D10: =D8+D9 -> 889 | E10: =E8+E9 -> 930 | F10: =(D10-E10)/E10 -> -0.044086022 | G10: =G8+G9 -> 457 | H10: =(D10-G10)/G10 -> 0.9452954 | I10: =I8+I9 -> 4486 | J10: =J9+J8 -> 4930 | K10: =(I10-J10)/J10 -> -0.090060852
B11: 계 | D11: =D6+D7+D10 -> 263904 | E11: =E6+E7+E10 -> 265344 | F11: =(D11-E11)/E11 -> -0.0054269175 | G11: =G6+G7+G10 -> 268387 | H11: =(D11-G11)/G11 -> -0.016703492 | I11: =I6+I7+I10 -> 2636577 | J11: =J7+J6+J10 -> 2584659 | K11: =(I11-J11)/J11 -> 0.020086982
H73: =H43+H46+H48+H71+H65+H62+H55+H58+H40+H52+H68 -> 0

Sheet 국내1
A1: 기아 2025년 10월 판매실적 - 차종별
A2: .
A4: 구 분 | E4: 2025 | H4: =E4-1 -> 2024 | I4: =IF(E5=1,E4-1,E4) -> 2025 | J4: =E4 -> 2025 | L4: =H4 -> 2024
E5: 10 | F5: 전년 동월대비 | G5: 전월 대비 | H5: =E5 -> 10 | I5: =IF(E5=1,12,E5-1) -> 9 | J5: 누계 | K5: 전년 누계대비 | L5: 누계
D6: 모닝 | E6: =VLOOKUP(D6,국내2!$C$5:$P$33,$E$5+1,0) -> 2062 | F6: =(E6-H6)/H6 -> 0.40846995 | G6: =(E6-I6)/I6 -> 0.14238227 | H6: =VLOOKUP(D6,국내2!$C$71:$P$96,$E$5+1,0) -> 1464 | I6: =VLOOKUP(D6,국내2!$C$5:$P$33,$I$5+1,0) -> 1805 | J6: =국내2!P5 -> 13372 | K6: =(J6-L6)/L6 -> 0.13707483 | L6: =SUM(국내2!D71:'국내2'!M71) -> 11760
D7: 레이 | E7: =VLOOKUP(D7,국내2!$C$5:$P$33,$E$5+1,0) -> 3382 | F7: =(E7-H7)/H7 -> 0.031726663 | G7: =(E7-I7)/I7 -> -0.15513365 | H7: =VLOOKUP(D7,국내2!$C$71:$P$96,$E$5+1,0) -> 3278 | I7: =VLOOKUP(D7,국내2!$C$5:$P$33,$I$5+1,0) -> 4003 | J7: =국내2!P6 -> 39907 | K7: =(J7-L7)/L7 -> -0.0027986706 | L7: =SUM(국내2!D72:'국내2'!M72) -> 40019
D8: K3 | E8: =VLOOKUP(D8,국내2!$C$5:$P$33,$E$5+1,0) -> 0 | F8: =(E8-H8)/H8 -> #DIV/0! | G8: =(E8-I8)/I8 -> #DIV/0! | H8: =VLOOKUP(D8,국내2!$C$71:$P$96,$E$5+1,0) -> 0 | I8: =VLOOKUP(D8,국내2!$C$5:$P$33,$I$5+1,0) -> 0 | J8: =국내2!P7 -> 0 | K8: =(J8-L8)/L8 -> -1 | L8: =SUM(국내2!D73:'국내2'!M73) -> 9831
D9: EV4 | E9: =VLOOKUP(D9,국내2!$C$5:$P$33,$E$5+1,0) -> 654 | F9: =(E9-H9)/H9 -> #DIV/0! | G9: =(E9-I9)/I9 -> -0.43179844 | H9: 0 | I9: =VLOOKUP(D9,국내2!$C$5:$P$33,$I$5+1,0) -> 1151 | J9: =국내2!P8 -> 7691 | K9: =(J9-L9)/L9 -> #DIV/0! | L9: 0
D10: K5 | E10: =VLOOKUP(D10,국내2!$C$5:$P$33,$E$5+1,0) -> 3045 | F10: =(E10-H10)/H10 -> 0.004950495 | G10: =(E10-I10)/I10 -> -0.026223217 | H10: =VLOOKUP(D10,국내2!$C$71:$P$96,$E$5+1,0) -> 3030 | I10: =VLOOKUP(D10,국내2!$C$5:$P$33,$I$5+1,0) -> 3127 | J10: =국내2!P9 -> 29709 | K10: =(J10-L10)/L10 -> 0.021384123 | L10: =SUM(국내2!D74:'국내2'!M74) -> 29087
D11: K8 | E11: =VLOOKUP(D11,국내2!$C$5:$P$33,$E$5+1,0) -> 2129 | F11: =(E11-H11)/H11 -> -0.57223227 | G11: =(E11-I11)/I11 -> -0.013895322 | H11: =VLOOKUP(D11,국내2!$C$71:$P$96,$E$5+1,0) -> 4977 | I11: =VLOOKUP(D11,국내2!$C$5:$P$33,$I$5+1,0) -> 2159 | J11: =국내2!P10 -> 23428 | K11: =(J11-L11)/L11 -> -0.1004454 | L11: =SUM(국내2!D75:'국내2'!M75) -> 26044
D12: K9 | E12: =VLOOKUP(D12,국내2!$C$5:$P$33,$E$5+1,0) -> 47 | F12: =(E12-H12)/H12 -> -0.62992126 | G12: =(E12-I12)/I12 -> -0.56880734 | H12: =VLOOKUP(D12,국내2!$C$71:$P$96,$E$5+1,0) -> 127 | I12: =VLOOKUP(D12,국내2!$C$5:$P$33,$I$5+1,0) -> 109 | J12: =국내2!P11 -> 1273 | K12: =(J12-L12)/L12 -> -0.31925134 | L12: =SUM(국내2!D77:'국내2'!M77) -> 1870
D13: 승용 | E13: =SUM(E6:E12) -> 11319 | F13: =(E13-H13)/H13 -> -0.12092265 | G13: =(E13-I13)/I13 -> -0.083778533 | H13: =SUM(H6:H12) -> 12876 | I13: =SUM(I6:I12) -> 12354 | J13: =SUM(J6:J12) -> 115380 | K13: =(J13-L13)/L13 -> -0.027240307 | L13: =SUM(L6:L12) -> 118611
D14: 니로 | E14: =VLOOKUP(D14,국내2!$C$5:$P$33,$E$5+1,0) -> 1128 | F14: =(E14-H14)/H14 -> 0.17377732 | G14: =(E14-I14)/I14 -> 0.076335878 | H14: =VLOOKUP(D14,국내2!$C$71:$P$96,$E$5+1,0) -> 961 | I14: =VLOOKUP(D14,국내2!$C$5:$P$33,$I$5+1,0) -> 1048 | J14: =국내2!P13 -> 10907 | K14: =(J14-L14)/L14 -> -0.13635284 | L14: =SUM(국내2!D79:'국내2'!M79) -> 12629
D15: EV3 | E15: =VLOOKUP(D15,국내2!$C$5:$P$33,$E$5+1,0) -> 1423 | F15: =(E15-H15)/H15 -> -0.32463218 | G15: =(E15-I15)/I15 -> -0.26154645 | H15: =VLOOKUP(D15,국내2!$C$71:$P$96,$E$5+1,0) -> 2107 | I15: =VLOOKUP(D15,국내2!$C$5:$P$33,$I$5+1,0) -> 1927 | J15: =국내2!P14 -> 20391 | K15: =(J15-L15)/L15 -> 1.0177123 | L15: =SUM(국내2!D80:'국내2'!M80) -> 10106
D16: EV5 | E16: =VLOOKUP(D16,국내2!$C$5:$P$33,$E$5+1,0) -> 1150 | F16: =(E16-H16)/H16 -> #DIV/0! | G16: =(E16-I16)/I16 -> 3.2279412 | H16: 0 | I16: =VLOOKUP(D16,국내2!$C$5:$P$33,$I$5+1,0) -> 272 | J16: =국내2!P15 -> 1422 | K16: =(J16-L16)/L16 -> #DIV/0! | L16: 0
D17: EV6 | E17: =VLOOKUP(D17,국내2!$C$5:$P$33,$E$5+1,0) -> 747 | F17: =(E17-H17)/H17 -> 0.34111311 | G17: =(E17-I17)/I17 -> -0.43494705 | H17: =VLOOKUP(D17,국내2!$C$71:$P$96,$E$5+1,0) -> 557 | I17: =VLOOKUP(D17,국내2!$C$5:$P$33,$I$5+1,0) -> 1322 | J17: =국내2!P16 -> 8893 | K17: =J17/L17-1 -> 0.0939845 | L17: =SUM(국내2!D81:'국내2'!M81) -> 8129
D18: EV9 | E18: =VLOOKUP(D18,국내2!$C$5:$P$33,$E$5+1,0) -> 144 | F18: =(E18-H18)/H18 -> -0.094339623 | G18: =(E18-I18)/I18 -> -0.020408163 | H18: =VLOOKUP(D18,국내2!$C$71:$P$96,$E$5+1,0) -> 159 | I18: =VLOOKUP(D18,국내2!$C$5:$P$33,$I$5+1,0) -> 147 | J18: =국내2!P17 -> 1344 | K18: =J18/L18-1 -> -0.23592951 | L18: =SUM(국내2!D82:'국내2'!M82) -> 1759
D19: 셀토스 | E19: =VLOOKUP(D19,국내2!$C$5:$P$33,$E$5+1,0) -> 3365 | F19: =(E19-H19)/H19 -> -0.50674289 | G19: =(E19-I19)/I19 -> -0.32225579 | H19: =VLOOKUP(D19,국내2!$C$71:$P$96,$E$5+1,0) -> 6822 | I19: =VLOOKUP(D19,국내2!$C$5:$P$33,$I$5+1,0) -> 4965 | J19: =국내2!P18 -> 46404 | K19: =J19/L19-1 -> -0.098916463 | L19: =SUM(국내2!D83:'국내2'!M83) -> 51498
D20: 스포티지 | E20: =VLOOKUP(D20,국내2!$C$5:$P$33,$E$5+1,0) -> 4055 | F20: =(E20-H20)/H20 -> -0.26685952 | G20: =(E20-I20)/I20 -> -0.36798628 | H20: =VLOOKUP(D20,국내2!$C$71:$P$96,$E$5+1,0) -> 5531 | I20: =VLOOKUP(D20,국내2!$C$5:$P$33,$I$5+1,0) -> 6416 | J20: =국내2!P19 -> 59743 | K20: =J20/L20-1 -> -0.030051628 | L20: =SUM(국내2!D84:'국내2'!M84) -> 61594
D21: 쏘렌토 | E21: =VLOOKUP(D21,국내2!$C$5:$P$33,$E$5+1,0) -> 6788 | F21: =(E21-H21)/H21 -> -0.14745039 | G21: =(E21-I21)/I21 -> -0.24392961 | H21: =VLOOKUP(D21,국내2!$C$71:$P$96,$E$5+1,0) -> 7962 | I21: =VLOOKUP(D21,국내2!$C$5:$P$33,$I$5+1,0) -> 8978 | J21: =국내2!P20 -> 80479 | K21: =(J21-L21)/L21 -> 0.069118976 | L21: =SUM(국내2!D85:'국내2'!M85) -> 75276
D22: 모하비 | E22: =VLOOKUP(D22,국내2!$C$5:$P$33,$E$5+1,0) -> 0 | F22: =(E22-H22)/H22 -> -1 | G22: =(E22-I22)/I22 -> #DIV/0! | H22: =VLOOKUP(D22,국내2!$C$71:$P$96,$E$5+1,0) -> 98 | I22: =VLOOKUP(D22,국내2!$C$5:$P$33,$I$5+1,0) -> 0 | J22: =국내2!P21 -> 0 | K22: =(J22-L22)/L22 -> -1 | L22: =SUM(국내2!D86:'국내2'!M86) -> 2216
D23: 카니발 | E23: =VLOOKUP(D23,국내2!$C$5:$P$33,$E$5+1,0) -> 4515 | F23: =(E23-H23)/H23 -> -0.20017715 | G23: =(E23-I23)/I23 -> -0.33190293 | H23: =VLOOKUP(D23,국내2!$C$71:$P$96,$E$5+1,0) -> 5645 | I23: =VLOOKUP(D23,국내2!$C$5:$P$33,$I$5+1,0) -> 6758 | J23: =국내2!P22 -> 66984 | K23: =(J23-L23)/L23 -> -0.014897716 | L23: =SUM(국내2!D87:'국내2'!M87) -> 67997
D24: 타스만 | E24: =VLOOKUP(D24,국내2!$C$5:$P$33,$E$5+1,0) -> 611 | F24: =(E24-H24)/H24 -> #DIV/0! | G24: =(E24-I24)/I24 -> -0.21364221 | H24: 0 | I24: =VLOOKUP(D24,국내2!$C$5:$P$33,$I$5+1,0) -> 777 | J24: =국내2!P23 -> 7540 | K24: =(J24-L24)/L24 -> #DIV/0! | L24: 0
D25: RV | E25: =SUM(E14:E24) -> 23926 | F25: =(E25-H25)/H25 -> -0.19824409 | G25: =(E25-I25)/I25 -> -0.26629868 | H25: =SUM(H14:H23) -> 29842 | I25: =SUM(I14:I24) -> 32610 | J25: =SUM(J14:J24) -> 304107 | K25: =(J25-L25)/L25 -> 0.044309144 | L25: =SUM(L14:L23) -> 291204
D26: PV5 | E26: =VLOOKUP(D26,국내2!$C$5:$P$33,$E$5+1,0) -> 1814 | F26: =(E26-H26)/H26 -> #DIV/0! | G26: =(E26-I26)/I26 -> 1.6994048 | H26: 0 | I26: =VLOOKUP(D26,국내2!$C$5:$P$33,$I$5+1,0) -> 672 | J26: =국내2!P25 -> 2647 | K26: =(J26-L26)/L26 -> #DIV/0! | L26: 0
D27: 봉고 | E27: =VLOOKUP(D27,국내2!$C$5:$P$33,$E$5+1,0) -> 2847 | F27: =(E27-H27)/H27 -> -0.10556079 | G27: =(E27-I27)/I27 -> -0.11802974 | H27: =VLOOKUP(D27,국내2!$C$71:$P$96,$E$5+1,0) -> 3183 | I27: =VLOOKUP(D27,국내2!$C$5:$P$33,$I$5+1,0) -> 3228 | J27: =국내2!P26 -> 30644 | K27: =(J27-L27)/L27 -> -0.12340523 | L27: =SUM(국내2!D89:'국내2'!M89) -> 34958
D28: 버스 | E28: =VLOOKUP(D28,국내2!$C$5:$P$33,$E$5+1,0) -> 95 | F28: =(E28-H28)/H28 -> -0.23387097 | G28: =(E28-I28)/I28 -> -0.30656934 | H28: =VLOOKUP(D28,국내2!$C$71:$P$96,$E$5+1,0) -> 124 | I28: =VLOOKUP(D28,국내2!$C$5:$P$33,$I$5+1,0) -> 137 | J28: =국내2!P27 -> 1165 | K28: =(J28-L28)/L28 -> 0.011284722 | L28: =SUM(국내2!D90:'국내2'!M90) -> 1152
D29: 상용 | E29: =SUM(E26:E28) -> 4756 | F29: =(E29-H29)/H29 -> 0.43816148 | G29: =(E29-I29)/I29 -> 0.17810255 | H29: =SUM(H26:H28) -> 3307 | I29: =SUM(I26:I28) -> 4037 | J29: =SUM(J26:J28) -> 34456 | K29: =(J29-L29)/L29 -> -0.045804486 | L29: =SUM(L26:L28) -> 36110
B30: 국내판매 (특수 제외) | E30: =E13+E25+E29 -> 40001 | F30: =(E30-H30)/H30 -> -0.13088539 | G30: =(E30-I30)/I30 -> -0.18366972 | H30: =H13+H25+H29 -> 46025 | I30: =I13+I25+I29 -> 49001 | J30: =J13+J25+J29 -> 453943 | K30: =(J30-L30)/L30 -> 0.017980602 | L30: =L13+L25+L29 -> 445925
D31: 특장 | E31: =VLOOKUP(D31,국내2!$C$5:$P$33,$E$5+1,0) -> 0 | F31: =(E31-H31)/H31 -> #DIV/0! | G31: =(E31-I31)/I31 -> #DIV/0! | H31: =VLOOKUP(D31,국내2!$C$71:$P$96,$E$5+1,0) -> 0 | I31: =VLOOKUP(D31,국내2!$C$5:$P$33,$I$5+1,0) -> 0 | J31: =국내2!P30 -> 0 | K31: =(J31-L31)/L31 -> #DIV/0! | L31: =SUM(국내2!D93:'국내2'!M93) -> 0
D32: 군수 | E32: 343 | F32: =(E32-H32)/H32 -> -0.10909091 | G32: =(E32-I32)/I32 -> 0.715 | H32: =VLOOKUP(D32,국내2!$C$71:$P$96,$E$5+1,0) -> 385 | I32: =VLOOKUP(D32,국내2!$C$5:$P$33,$I$5+1,0) -> 200 | J32: =국내2!P31 -> 1509 | K32: =(J32-L32)/L32 -> -0.11078374 | L32: =SUM(국내2!D94:'국내2'!M94) -> 1697
D33: 특수 차량 | E33: =SUM(E31:E32) -> 343 | F33: =(E33-H33)/H33 -> -0.10909091 | G33: =(E33-I33)/I33 -> 0.715 | H33: =SUM(H31:H32) -> 385 | I33: =SUM(I31:I32) -> 200 | J33: =SUM(J31:J32) -> 1509 | K33: =(J33-L33)/L33 -> -0.11078374 | L33: =SUM(L31:L32) -> 1697
A34: 국내판매 (특수 포함) | E34: =E13+E25+E29+E33 -> 40344 | F34: =(E34-H34)/H34 -> -0.13070459 | G34: =(E34-I34)/I34 -> -0.18001667 | H34: =H13+H25+H29+H33 -> 46410 | I34: =I13+I25+I29+I33 -> 49201 | J34: =J13+J25+J29+J33 -> 455452 | K34: =(J34-L34)/L34 -> 0.017492438 | L34: =L13+L25+L29+L33 -> 447622
D35: 해외(세단·RV·상용) | E35: =VLOOKUP(E5,'⊙ 월별'!B3:J15,5,0) -> 223014 | F35: =(E35-H35)/H35 -> 0.021177807 | G35: =(E35-I35)/I35 -> 0.018659017 | H35: =VLOOKUP(H5,'⊙ 월별'!B19:J31,5,0) -> 218389 | I35: =VLOOKUP(I5,'⊙ 월별'!B3:J15,5,0) -> 218929 | J35: ='⊙ 월별'!F15 -> 2178148 | K35: =(J35-L35)/L35 -> 0.020781665 | L35: =SUM('⊙ 월별'!F19:F28) -> 2133804
D36: 해외(특수) | E36: =VLOOKUP(E5,'⊙ 월별'!B3:J15,6,0) -> 546 | F36: =(E36-H36)/H36 -> 0.0018348624 | G36: =(E36-I36)/I36 -> 1.1245136 | H36: =VLOOKUP(H5,'⊙ 월별'!B19:J31,6,0) -> 545 | I36: =VLOOKUP(I5,'⊙ 월별'!B3:J15,6,0) -> 257 | J36: ='⊙ 월별'!G15 -> 2977 | K36: =(J36-L36)/L36 -> -0.079183421 | L36: =SUM('⊙ 월별'!G19:G28) -> 3233
A37: 해외판매 | E37: =E35+E36 -> 223560 | F37: =(E37-H37)/H37 -> 0.021129656 | G37: =(E37-I37)/I37 -> 0.019955654 | H37: =H35+H36 -> 218934 | I37: =I35+I36 -> 219186 | J37: =J35+J36 -> 2181125 | K37: =(J37-L37)/L37 -> 0.020630434 | L37: =L35+L36 -> 2137037
A38: 계 | E38: =E34+E37 -> 263904 | F38: =(E38-H38)/H38 -> -0.0054269175 | G38: =(E38-I38)/I38 -> -0.016703492 | H38: =H34+H37 -> 265344 | I38: =I37+I34 -> 268387 | J38: =J34+J37 -> 2636577 | K38: =(J38-L38)/L38 -> 0.020086982 | L38: =L37+L34 -> 2584659
A40: ※ 국내 친환경차(HEV / PHEV / EV) 판매
C42: 레이 (계) | E42: =E7 -> 3382 | F42: =(E42-H42)/H42 -> 0.031726663 | G42: =(E42-I42)/I42 -> -0.15513365 | H42: =H7 -> 3278 | I42: =I7 -> 4003 | J42: =J7 -> 39907 | K42: =(J42-L42)/L42 -> -0.0027986706 | L42: =L7 -> 40019
D43: 레이 EV | E43: =HLOOKUP(E5,국내2!C4:P66,34,0) -> 791 | F43: =(E43-H43)/H43 -> 2.268595 | G43: =(E43-I43)/I43 -> -0.2401537 | H43: =HLOOKUP(H5,국내2!C70:P129,31,0) -> 242 | I43: =HLOOKUP(I5,국내2!C4:P66,34,0) -> 1041 | J43: =국내2!P37 -> 8829 | K43: =(J43-L43)/L43 -> -0.077525859 | L43: =SUM(국내2!D100:M100) -> 9571
...

Sheet 국내2
B1: ◆ 차종별 실적 - 국내판매
B3: ※ 2025년
C4: 차 종 | D4: 1 | E4: 2 | F4: 3 | G4: 4 | H4: 5 | I4: 6 | J4: 7 | K4: 8 | L4: 9 | M4: 10 | N4: 11 | O4: 12 | P4: 계
B5: 승용 | C5: 모닝 | D5: 1484 | E5: 765 | F5: 579 | G5: 1028 | H5: 1527 | I5: 1204 | J5: 838 | K5: 2080 | L5: 1805 | M5: 2062 | P5: =SUM(D5:O5) -> 13372
C6: 레이 | D6: 3876 | E6: 4287 | F6: 4584 | G6: 4262 | H6: 4000 | I6: 4260 | J6: 3769 | K6: 3484 | L6: 4003 | M6: 3382 | P6: =SUM(D6:O6) -> 39907
C7: K3 | P7: =SUM(D7:O7) -> 0
C8: EV4 | D8: 0 | E8: 0 | F8: 0 | G8: 831 | H8: 1373 | I8: 1073 | J8: 1485 | K8: 1124 | L8: 1151 | M8: 654 | P8: =SUM(D8:O8) -> 7691
C9: K5 | D9: 2583 | E9: 2503 | F9: 2863 | G9: 3581 | H9: 3028 | I9: 2873 | J9: 2868 | K9: 3238 | L9: 3127 | M9: 3045 | P9: =SUM(D9:O9) -> 29709
C10: K8 | D10: 2297 | E10: 2457 | F10: 2704 | G10: 2566 | H10: 2627 | I10: 2423 | J10: 2090 | K10: 1976 | L10: 2159 | M10: 2129 | P10: =SUM(D10:O10) -> 23428
C11: K9 | D11: 123 | E11: 164 | F11: 226 | G11: 147 | H11: 109 | I11: 92 | J11: 113 | K11: 143 | L11: 109 | M11: 47 | P11: =SUM(D11:O11) -> 1273
C12: 계 | D12: =SUM(D5:D11) -> 10363 | E12: =SUM(E5:E11) -> 10176 | F12: =SUM(F5:F11) -> 10956 | G12: =SUM(G5:G11) -> 12415 | H12: =SUM(H5:H11) -> 12664 | I12: =SUM(I5:I11) -> 11925 | J12: =SUM(J5:J11) -> 11163 | K12: =SUM(K5:K11) -> 12045 | ... P12: =SUM(P5:P11) -> 115380
B13: RV | C13: 니로 | D13: 571 | E13: 854 | F13: 1176 | G13: 1716 | H13: 1310 | I13: 1007 | J13: 1035 | K13: 1062 | L13: 1048 | M13: 1128 | P13: =SUM(D13:O13) -> 10907
C14: EV3 | D14: 429 | E14: 2257 | F14: 3032 | G14: 3057 | H14: 1866 | I14: 1884 | J14: 2199 | K14: 2317 | L14: 1927 | M14: 1423 | P14: =SUM(D14:O14) -> 20391
C15: EV5 | L15: 272 | M15: 1150 | P15: =SUM(D15:O15) -> 1422
C16: EV6 | D16: 72 | E16: 1100 | F16: 1163 | G16: 789 | H16: 957 | I16: 727 | J16: 936 | K16: 1080 | L16: 1322 | M16: 747 | P16: =SUM(D16:O16) -> 8893
C17: EV9 | D17: 37 | E17: 88 | F17: 202 | G17: 150 | H17: 178 | I17: 113 | J17: 173 | K17: 112 | L17: 147 | M17: 144 | P17: =SUM(D17:O17) -> 1344
C18: 셀토스 | D18: 4342 | E18: 4764 | F18: 5351 | G18: 5101 | H18: 4257 | I18: 5100 | J18: 4921 | K18: 4238 | L18: 4965 | M18: 3365 | P18: =SUM(D18:O18) -> 46404
C19: 스포티지 | D19: 6547 | E19: 6568 | F19: 6617 | G19: 6703 | H19: 5295 | I19: 6363 | J19: 5424 | K19: 5755 | L19: 6416 | M19: 4055 | P19: =SUM(D19:O19) -> 59743
C20: 쏘렌토 | D20: 7454 | E20: 9067 | F20: 10155 | G20: 8796 | H20: 7734 | I20: 7923 | J20: 7053 | K20: 6531 | L20: 8978 | M20: 6788 | P20: =SUM(D20:O20) -> 80479
C21: 모하비 | D21: 0 | E21: 0 | F21: 0 | G21: 0 | H21: 0 | I21: 0 | J21: 0 | P21: =SUM(D21:O21) -> 0
C22: 카니발 | D22: 6068 | E22: 7734 | F22: 7710 | G22: 7592 | H22: 6651 | I22: 6714 | J22: 7211 | K22: 6031 | L22: 6758 | M22: 4515 | P22: =SUM(D22:O22) -> 66984
C23: 타스만 | D23: 0 | E23: 0 | F23: 96 | G23: 1248 | H23: 1348 | I23: 1302 | J23: 1271 | K23: 887 | L23: 777 | M23: 611 | P23: =SUM(D23:O23) -> 7540
C24: 계 | D24: =SUM(D13:D23) -> 25520 | E24: =SUM(E13:E23) -> 32432 | F24: =SUM(F13:F23) -> 35502 | G24: =SUM(G13:G23) -> 35152 | H24: =SUM(H13:H23) -> 29596 | I24: =SUM(I13:I23) -> 31133 | J24: =SUM(J13:J23) -> 30223 | K24: =SUM(K13:K23) -> 28013 | ... P24: =SUM(P13:P23) -> 304107
B25: 상 용 | C25: PV5 | K25: 161 | L25: 672 | M25: 1814 | P25: =SUM(D25:O25) -> 2647
C26: 봉고 | D26: 2419 | E26: 3281 | F26: 3419 | G26: 3303 | H26: 2629 | I26: 2830 | J26: 3520 | K26: 3168 | L26: 3228 | M26: 2847 | P26: =SUM(D26:O26) -> 30644
C27: 버스 | D27: 101 | E27: 114 | F27: 129 | G27: 135 | H27: 114 | I27: 115 | J27: 111 | K27: 114 | L27: 137 | M27: 95 | P27: =SUM(D27:O27) -> 1165
C28: 계 | D28: =SUM(D25:D27) -> 2520 | E28: =SUM(E25:E27) -> 3395 | F28: =SUM(F25:F27) -> 3548 | G28: =SUM(G25:G27) -> 3438 | H28: =SUM(H25:H27) -> 2743 | I28: =SUM(I25:I27) -> 2945 | J28: =SUM(J25:J27) -> 3631 | K28: =SUM(K25:K27) -> 3443 | ... P28: =SUM(P25:P27) -> 34456
B29: 계 (특수 제외) | D29: =D12+D24+D28 -> 38403 | E29: =E12+E24+E28 -> 46003 | F29: =F12+F24+F28 -> 50006 | G29: =G12+G24+G28 -> 51005 | H29: =H12+H24+H28 -> 45003 | I29: =I12+I24+I28 -> 46003 | J29: =J12+J24+J28 -> 45017 | K29: =K12+K24+K28 -> 43501 | ... P29: =P12+P24+P28 -> 453943
B30: 특수 | C30: 특장 | P30: =SUM(D30:O30) -> 0
C31: 군수 | D31: 9 | E31: 44 | F31: 99 | G31: 80 | H31: 122 | I31: 322 | J31: 116 | K31: 174 | L31: 200 | M31: 343 | P31: =SUM(D31:O31) -> 1509
C32: 계 | D32: =SUM(D30:D31) -> 9 | E32: =SUM(E30:E31) -> 44 | F32: =SUM(F30:F31) -> 99 | G32: =SUM(G30:G31) -> 80 | H32: =SUM(H30:H31) -> 122 | I32: =SUM(I30:I31) -> 322 | J32: =SUM(J30:J31) -> 116 | K32: =SUM(K30:K31) -> 174 | ... P32: =SUM(P30:P31) -> 1509
B33: 총 계 | D33: =D12+D24+D28+D32 -> 38412 | E33: =E12+E24+E28+E32 -> 46047 | F33: =F12+F24+F28+F32 -> 50105 | G33: =G12+G24+G28+G32 -> 51085 | H33: =H12+H24+H28+H32 -> 45125 | I33: =I12+I24+I28+I32 -> 46325 | J33: =J12+J24+J28+J32 -> 45133 | K33: =K12+K24+K28+K32 -> 43675 | ... P33: =P12+P24+P28+P32 -> 455452
B35: 레이 | D35: =D6 -> 3876 | E35: =E6 -> 4287 | F35: =F6 -> 4584 | G35: =G6 -> 4262 | H35: =H6 -> 4000 | I35: =I6 -> 4260 | J35: =J6 -> 3769 | K35: =K6 -> 3484 | ... P35: =P6 -> 39907
C36: 레이 | D36: =D35-D37 -> 3803 | E36: =E35-E37 -> 3774 | F36: =F35-F37 -> 3375 | G36: =G35-G37 -> 3634 | H36: =H35-H37 -> 3194 | I36: =I35-I37 -> 2955 | J36: =J35-J37 -> 2327 | K36: =K35-K37 -> 2463 | ... O36: =O35-O37 -> 0 | P36: =SUM(D36:O36) -> 31078
C37: 레이 EV | D37: 73 | E37: 513 | F37: 1209 | G37: 628 | H37: 806 | I37: 1305 | J37: 1442 | K37: 1021 | L37: 1041 | M37: 791 | P37: =SUM(D37:O37) -> 8829
B39: K5 | D39: =D9 -> 2583 | E39: =E9 -> 2503 | F39: =F9 -> 2863 | G39: =G9 -> 3581 | H39: =H9 -> 3028 | I39: =I9 -> 2873 | J39: =J9 -> 2868 | K39: =K9 -> 3238 | ... P39: =P9 -> 29709
C40: DL3 | D40: =D39-D41 -> 2025 | E40: =E39-E41 -> 1981 | F40: =F39-F41 -> 2219 | G40: =G39-G41 -> 2980 | H40: =H39-H41 -> 2494 | I40: =I39-I41 -> 2241 | J40: =J39-J41 -> 2152 | K40: =K39-K41 -> 2337 | ... O40: =O39-O41 -> 0 | P40: =SUM(D40:O40) -> 23287
C41: DL3 HEV | D41: 558 | E41: 522 | F41: 644 | G41: 601 | H41: 534 | I41: 632 | J41: 716 | K41: 901 | L41: 768 | M41: 546 | P41: =SUM(D41:O41) -> 6422
B43: K8(K7 후속) | D43: =D10 -> 2297 | E43: =E10 -> 2457 | F43: =F10 -> 2704 | G43: =G10 -> 2566 | H43: =H10 -> 2627 | I43: =I10 -> 2423 | J43: =J10 -> 2090 | K43: =K10 -> 1976 | ... P43: =P10 -> 23428
C44: GL3 | D44: =D43-D45 -> 1083 | E44: =E43-E45 -> 945 | F44: =F43-F45 -> 1055 | G44: =G43-G45 -> 1025 | H44: =H43-H45 -> 975 | I44: =I43-I45 -> 752 | J44: =J43-J45 -> 768 | K44: =K43-K45 -> 779 | ... O44: =O43-O45 -> 0 | P44: =SUM(D44:O44) -> 9064
...

Sheet ⊙ 월별
A1: 구분 | C1: 국내 | F1: 해외 | I1: 계
C2: 세단·RV·상용 | D2: 특수 | F2: 세단·RV·상용 | G2: 특수 | I2: 세단·RV·상용 | J2: 특수
A3: 2025년 | B3: 1 | C3: =국내2!D29 -> 38403 | D3: =국내2!D32 -> 9 | E3: =C3+D3 -> 38412 | F3: 201300 | G3: 166 | H3: =F3+G3 -> 201466 | I3: =C3+F3 -> 239703 | J3: =D3+G3 -> 175 | K3: =I3+J3 -> 239878
B4: 2 | C4: =국내2!E29 -> 46003 | D4: =국내2!E32 -> 44 | E4: =C4+D4 -> 46047 | F4: 208027 | G4: 341 | H4: =F4+G4 -> 208368 | I4: =C4+F4 -> 254030 | J4: =D4+G4 -> 385 | K4: =I4+J4 -> 254415
B5: 3 | C5: =국내2!F29 -> 50006 | D5: 99 | E5: =C5+D5 -> 50105 | F5: 228079 | G5: 171 | H5: =F5+G5 -> 228250 | I5: =C5+F5 -> 278085 | J5: =D5+G5 -> 270 | K5: =I5+J5 -> 278355
B6: 4 | C6: =국내2!G29 -> 51005 | D6: =국내2!G32 -> 80 | E6: =C6+D6 -> 51085 | F6: 223145 | G6: 207 | H6: =F6+G6 -> 223352 | I6: =C6+F6 -> 274150 | J6: =D6+G6 -> 287 | K6: =I6+J6 -> 274437
B7: 5 | C7: =국내2!H29 -> 45003 | D7: =국내2!H32 -> 122 | E7: =C7+D7 -> 45125 | F7: 225088 | G7: 211 | H7: =F7+G7 -> 225299 | I7: =C7+F7 -> 270091 | J7: =D7+G7 -> 333 | K7: =I7+J7 -> 270424
B8: 6 | C8: =국내2!I29 -> 46003 | D8: =국내2!I32 -> 322 | E8: =C8+D8 -> 46325 | F8: 223377 | G8: 325 | H8: =F8+G8 -> 223702 | I8: =C8+F8 -> 269380 | J8: =D8+G8 -> 647 | K8: =I8+J8 -> 270027
B9: 7 | C9: =국내2!J29 -> 45017 | D9: =국내2!J32 -> 116 | E9: =C9+D9 -> 45133 | F9: 217288 | G9: 386 | H9: =F9+G9 -> 217674 | I9: =C9+F9 -> 262305 | J9: =D9+G9 -> 502 | K9: =I9+J9 -> 262807
B10: 8 | C10: =국내2!K29 -> 43501 | D10: 174 | E10: =C10+D10 -> 43675 | F10: 209901 | G10: 367 | H10: =F10+G10 -> 210268 | I10: =C10+F10 -> 253402 | J10: =D10+G10 -> 541 | K10: =I10+J10 -> 253943
B11: 9 | C11: =국내2!L29 -> 49001 | D11: =국내2!L32 -> 200 | E11: =C11+D11 -> 49201 | F11: 218929 | G11: 257 | H11: =F11+G11 -> 219186 | I11: =C11+F11 -> 267930 | J11: =D11+G11 -> 457 | K11: =I11+J11 -> 268387
B12: 10 | C12: =국내2!M29 -> 40001 | D12: =국내2!M32 -> 343 | E12: =C12+D12 -> 40344 | F12: 223014 | G12: 546 | H12: =F12+G12 -> 223560 | I12: =C12+F12 -> 263015 | J12: =D12+G12 -> 889 | K12: =I12+J12 -> 263904
B13: 11 | C13: =국내2!N29 -> 0 | D13: =국내2!N32 -> 0 | E13: =C13+D13 -> 0 | H13: =F13+G13 -> 0 | I13: =C13+F13 -> 0 | J13: =D13+G13 -> 0 | K13: =I13+J13 -> 0
B14: 12 | C14: =국내2!O29 -> 0 | D14: =국내2!O32 -> 0 | E14: =C14+D14 -> 0 | H14: =F14+G14 -> 0 | I14: =C14+F14 -> 0 | J14: =D14+G14 -> 0 | K14: =I14+J14 -> 0
B15: 계 | C15: =SUM(C3:C14) -> 453943 | D15: =SUM(D3:D14) -> 1509 | E15: =SUM(E3:E14) -> 455452 | F15: =SUM(F3:F14) -> 2178148 | G15: =SUM(G3:G14) -> 2977 | H15: =SUM(H3:H14) -> 2181125 | I15: =SUM(I3:I14) -> 2632091 | J15: =SUM(J3:J14) -> 4486 | K15: =SUM(K3:K14) -> 2636577
A17: 구분 | C17: 국내 | F17: 해외 | I17: 계
C18: 세단·RV·상용 | D18: 특수 | F18: 세단·RV·상용 | G18: 특수 | I18: 세단·RV·상용 | J18: 특수
A19: 2024년 | B19: 1 | C19: =국내2!D92 -> 44608 | D19: =국내2!D95 -> 75 | E19: =C19+D19 -> 44683 | F19: 200794 | G19: 109 | H19: =F19+G19 -> 200903 | I19: =C19+F19 -> 245402 | J19: =D19+G19 -> 184 | K19: =I19+J19 -> 245586
B20: 2 | C20: =국내2!E92 -> 44008 | D20: =국내2!E95 -> 68 | E20: =C20+D20 -> 44076 | F20: 198636 | G20: 205 | H20: =F20+G20 -> 198841 | I20: =C20+F20 -> 242644 | J20: =D20+G20 -> 273 | K20: =I20+J20 -> 242917
B21: 3 | C21: =국내2!F92 -> 49006 | D21: =국내2!F95 -> 106 | E21: =C21+D21 -> 49112 | F21: 222713 | G21: 186 | H21: =F21+G21 -> 222899 | I21: =C21+F21 -> 271719 | J21: =D21+G21 -> 292 | K21: =I21+J21 -> 272011
B22: 4 | C22: =국내2!G92 -> 47505 | D22: =국내2!G95 -> 126 | E22: =C22+D22 -> 47631 | F22: 213327 | G22: 325 | H22: =F22+G22 -> 213652 | I22: =C22+F22 -> 260832 | J22: =D22+G22 -> 451 | K22: =I22+J22 -> 261283
B23: 5 | C23: =국내2!H92 -> 46110 | D23: =국내2!H95 -> 125 | E23: =C23+D23 -> 46235 | F23: 218204 | G23: 260 | H23: =F23+G23 -> 218464 | I23: =C23+F23 -> 264314 | J23: =D23+G23 -> 385 | K23: =I23+J23 -> 264699
B24: 6 | C24: =국내2!I92 -> 44003 | D24: =국내2!I95 -> 281 | E24: =C24+D24 -> 44284 | F24: 224728 | G24: 189 | H24: =F24+G24 -> 224917 | I24: =C24+F24 -> 268731 | J24: =D24+G24 -> 470 | K24: =I24+J24 -> 269201
B25: 7 | C25: =국내2!J92 -> 46010 | D25: =국내2!J95 -> 228 | E25: =C25+D25 -> 46238 | F25: 215188 | G25: 372 | H25: =F25+G25 -> 215560 | I25: =C25+F25 -> 261198 | J25: =D25+G25 -> 600 | K25: =I25+J25 -> 261798
B26: 8 | C26: =국내2!K92 -> 40510 | D26: =국내2!K94 -> 174 | E26: =C26+D26 -> 40684 | F26: 210765 | G26: 471 | H26: =F26+G26 -> 211236 | I26: =C26+F26 -> 251275 | J26: =D26+G26 -> 645 | K26: =I26+J26 -> 251920
B27: 9 | C27: =국내2!L92 -> 38140 | D27: =국내2!L95 -> 129 | E27: =C27+D27 -> 38269 | F27: 211060 | G27: 571 | H27: =F27+G27 -> 211631 | I27: =C27+F27 -> 249200 | J27: =D27+G27 -> 700 | K27: =I27+J27 -> 249900
B28: 10 | C28: =국내2!M92 -> 46025 | D28: =국내2!M95 -> 385 | E28: =C28+D28 -> 46410 | F28: 218389 | G28: 545 | H28: =F28+G28 -> 218934 | I28: =C28+F28 -> 264414 | J28: =D28+G28 -> 930 | K28: =I28+J28 -> 265344
B29: 11 | C29: =국내2!N92 -> 48015 | D29: =국내2!N95 -> 177 | E29: =C29+D29 -> 48192 | F29: 215595 | G29: 399 | H29: =F29+G29 -> 215994 | I29: =C29+F29 -> 263610 | J29: =D29+G29 -> 576 | K29: =I29+J29 -> 264186
B30: 12 | C30: =국내2!O92 -> 46070 | D30: =국내2!O95 -> 262 | E30: =C30+D30 -> 46332 | F30: 193769 | G30: 354 | H30: =F30+G30 -> 194123 | I30: =C30+F30 -> 239839 | J30: =D30+G30 -> 616 | K30: =I30+J30 -> 240455
B31: 계 | C31: =SUM(C19:C30) -> 540010 | D31: =SUM(D19:D30) -> 2136 | E31: =SUM(E19:E30) -> 542146 | F31: =SUM(F19:F30) -> 2543168 | G31: =SUM(G19:G30) -> 3986 | H31: =SUM(H19:H30) -> 2547154 | I31: =SUM(I19:I30) -> 3083178 | J31: =SUM(J19:J30) -> 6122 | K31: =SUM(K19:K30) -> 3089300
