Workbook

Sheet 종합
B2: ■ 기아 2025년 10월 판매실적
B4: 구분 | D4: 2025 | E4: =D4-1 -> 2024 | F4: 전년동월 대비 | G4: =IF(D5=1,D4-1,D4) -> 2025 | H4: 전월 대비 | I4: =D4 -> 2025 | J4: =I4-1 -> 2024 | K4: 연간누계 대비
D5: 10 | E5: =D5 -> 10 | G5: =IF(D5=1,12,D5-1) -> 9 | I5: =D5 -> 10 | J5: =D5 -> 10
B6: 국내 | D6: =VLOOKUP(D5,'⊙ 월별'!B3:I15,2,0) -> 40001 | E6: =VLOOKUP(E5,'⊙ 월별'!B19:J31,2,0) -> 46025 | F6: =(D6-E6)/E6 -> -0.13088539 | G6: =VLOOKUP(G5,'⊙ 월별'!B3:J15,2,0) -> 49001 | H6: =(D6-G6)/G6 -> -0.18366972 | I6: ='⊙ 월별'!C15 -> 453943 | J6: =국내1!L34-국내1!L33 -> 445925 | K6: =(I6-J6)/J6 -> 0.017980602
B7: 해외 | D7: =VLOOKUP(D5,'⊙ 월별'!B3:I15,5,0) -> 223014 | E7: =VLOOKUP(E5,'⊙ 월별'!B19:J31,5,0) -> 218389 | F7: =(D7-E7)/E7 -> 0.021177807 | G7: =VLOOKUP(G5,'⊙ 월별'!B3:J15,5,0) -> 218929 | H7: =(D7-G7)/G7 -> 0.018659017 | I7: ='⊙ 월별'!F15 -> 2178148 | J7: =국내1!L35 -> 2133804 | K7: =(I7-J7)/J7 -> 0.020781665
C8: 국내 | D8: =VLOOKUP(D5,'⊙ 월별'!B3:K15,3,0) -> 343 | E8: =VLOOKUP(E5,'⊙ 월별'!B19:K31,3,0) -> 385 | F8: =(D8-E8)/E8 -> -0.10909091 | G8: =VLOOKUP(G5,'⊙ 월별'!B3:K15,3,0) -> 200 | H8: =(D8-G8)/G8 -> 0.715 | I8: ='⊙ 월별'!D15 -> 1509 | J8: =국내1!L33 -> 1697 | K8: =(I8-J8)/J8 -> -0.11078374
C9: 해외 | D9: =VLOOKUP(D5,'⊙ 월별'!B3:K15,6,0) -> 546 | E9: =VLOOKUP(E5,'⊙ 월별'!B19:K31,6,0) -> 545 | F9: =(D9-E9)/E9 -> 0.0018348624 | G9: =VLOOKUP(G5,'⊙ 월별'!B3:K15,6,0) -> 257 | H9: =(D9-G9)/G9 -> 1.1245136 | I9: ='⊙ 월별'!G15 -> 2977 | J9: =국내1!L36 -> 3233 | K9: =(I9-J9)/J9 -> -0.079183421
B10: 특수 차량 | D10: =D8+D9 -> 889 | E10: =E8+E9 -> 930 | F10: =(D10-E10)/E10 -> -0.044086022 | G10: =G8+G9 -> 457 | H10: =(D10-G10)/G10 -> 0.9452954 | I10: =I8+I9 -> 4486 | J10: =J9+J8 -> 4930 | K10: =(I10-J10)/J10 -> -0.090060852
B11: 계 | D11: =D6+D7+D10 -> 263904 | E11: =E6+E7+E10 -> 265344 | F11: =(D11-E11)/E11 -> -0.0054269175 | G11: =G6+G7+G10 -> 268387 | H11: =(D11-G11)/G11 -> -0.016703492 | I11: =I6+I7+I10 -> 2636577 | J11: =J7+J6+J10 -> 2584659 | K11: =(I11-J11)/J11 -> 0.020086982
H73: =H43+H46+H48+H71+H65+H62+H55+H58+H40+H52+H68 -> 0

Sheet 국내1
A1: 기아 2025년 10월 판매실적 - 차종별
A2: .
A4: 구 분 | E4: 2025 | H4: =E4-1 -> 2024 | I4: =IF(E5=1,E4-1,E4) -> 2025 | J4: =E4 -> 2025 | L4: =H4 -> 2024
E5: 10 | F5: 전년 동월대비 | G5: 전월 대비 | H5: =E5 -> 10 | I5: =IF(E5=1,12,E5-1) -> 9 | J5: 누계 | K5: 전년 누계대비 | L5: 누계
D6: 모닝 | E6: =VLOOKUP(D6,국내2!$C$5:$P$33,$E$5+1,0) -> 2062 | F6: =(E6-H6)/H6 -> 0.40846995 | G6: =(E6-I6)/I6 -> 0.14238227 | H6: =VLOOKUP(D6,국내2!$C$71:$P$96,$E$5+1,0) -> 1464 | I6: =VLOOKUP(D6,국내2!$C$5:$P$33,$I$5+1,0) -> 1805 | J6: =국내2!P5 -> 13372 | K6: =(J6-L6)/L6 -> 0.13707483 | L6: =SUM(국내2!D71:'국내2'!M71) -> 11760
D7: 레이 | E7: =VLOOKUP(D7,국내2!$C$5:$P$33,$E$5+1,0) -> 3382 | F7: =(E7-H7)/H7 -> 0.031726663 | G7: =(E7-I7)/I7 -> -0.15513365 | H7: =VLOOKUP(D7,국내2!$C$71:$P$96,$E$5+1,0) -> 3278 | I7: =VLOOKUP(D7,국내2!$C$5:$P$33,$I$5+1,0) -> 4003 | J7: =국내2!P6 -> 39907 | K7: =(J7-L7)/L7 -> -0.0027986706 | L7: =SUM(국내2!D72:'국내2'!M72) -> 40019
D8: K3 | E8: =VLOOKUP(D8,국내2!$C$5:$P$33,$E$5+1,0) -> 0 | F8: =(E8-H8)/H8 -> #DIV/0! | G8: =(E8-I8)/I8 -> #DIV/0! | H8: =VLOOKUP(D8,국내2!$C$71:$P$96,$E$5+1,0) -> 0 | I8: =VLOOKUP(D8,국내2!$C$5:$P$33,$I$5+1,0) -> 0 | J8: =국내2!P7 -> 0 | K8: =(J8-L8)/L8 -> -1 | L8: =SUM(국내2!D73:'국내2'!M73) -> 9831
D9: EV4 | E9: =VLOOKUP(D9,국내2!$C$5:$P$33,$E$5+1,0) -> 654 | F9: =(E9-H9)/H9 -> #DIV/0! | G9: =(E9-I9)/I9 -> -0.43179844 | H9: 0 | I9: =VLOOKUP(D9,국내2!$C$5:$P$33,$I$5+1,0) -> 1151 | J9: =국내2!P8 -> 7691 | K9: =(J9-L9)/L9 -> #DIV/0! | L9: 0
D10: K5 | E10: =VLOOKUP(D10,국내2!$C$5:$P$33,$E$5+1,0) -> 3045 | F10: =(E10-H10)/H10 -> 0.004950495 | G10: =(E10-I10)/I10 -> -0.026223217 | H10: =VLOOKUP(D10,국내2!$C$71:$P$96,$E$5+1,0) -> 3030 | I10: =VLOOKUP(D10,국내2!$C$5:$P$33,$I$5+1,0) -> 3127 | J10: =국내2!P9 -> 29709 | K10: =(J10-L10)/L10 -> 0.021384123 | L10: =SUM(국내2!D74:'국내2'!M74) -> 29087
D11: K8 | E11: =VLOOKUP(D11,국내2!$C$5:$P$33,$E$5+1,0) -> 2129 | F11: =(E11-H11)/H11 -> -0.57223227 | G11: =(E11-I11)/I11 -> -0.013895322 | H11: =VLOOKUP(D11,국내2!$C$71:$P$96,$E$5+1,0) -> 4977 | I11: =VLOOKUP(D11,국내2!$C$5:$P$33,$I$5+1,0) -> 2159 | J11: =국내2!P10 -> 23428 | K11: =(J11-L11)/L11 -> -0.1004454 | L11: =SUM(국내2!D75:'국내2'!M75) -> 26044
D12: K9 | E12: =VLOOKUP(D12,국내2!$C$5:$P$33,$E$5+1,0) -> 47 | F12: =(E12-H12)/H12 -> -0.62992126 | G12: =(E12-I12)/I12 -> -0.56880734 | H12: =VLOOKUP(D12,국내2!$C$71:$P$96,$E$5+1,0) -> 127 | I12: =VLOOKUP(D12,국내2!$C$5:$P$33,$I$5+1,0) -> 109 | J12: =국내2!P11 -> 1273 | K12: =(J12-L12)/L12 -> -0.31925134 | L12: =SUM(국내2!D77:'국내2'!M77) -> 1870
D13: 승용 | E13: =SUM(E6:E12) -> 11319 | F13: =(E13-H13)/H13 -> -0.12092265 | G13: =(E13-I13)/I13 -> -0.083778533 | H13: =SUM(H6:H12) -> 12876 | I13: =SUM(I6:I12) -> 12354 | J13: =SUM(J6:J12) -> 115380 | K13: =(J13-L13)/L13 -> -0.027240307 | L13: =SUM(L6:L12) -> 118611
D14: 니로 | E14: =VLOOKUP(D14,국내2!$C$5:$P$33,$E$5+1,0) -> 1128 | F14: =(E14-H14)/H14 -> 0.17377732 | G14: =(E14-I14)/I14 -> 0.076335878 | H14: =VLOOKUP(D14,국내2!$C$71:$P$96,$E$5+1,0) -> 961 | I14: =VLOOKUP(D14,국내2!$C$5:$P$33,$I$5+1,0) -> 1048 | J14: =국내2!P13 -> 10907 | K14: =(J14-L14)/L14 -> -0.13635284 | L14: =SUM(국내2!D79:'국내2'!M79) -> 12629
D15: EV3 | E15: =VLOOKUP(D15,국내2!$C$5:$P$33,$E$5+1,0) -> 1423 | F15: =(E15-H15)/H15 -> -0.32463218 | G15: =(E15-I15)/I15 -> -0.26154645 | H15: =VLOOKUP(D15,국내2!$C$71:$P$96,$E$5+1,0) -> 2107 | I15: =VLOOKUP(D15,국내2!$C$5:$P$33,$I$5+1,0) -> 1927 | J15: =국내2!P14 -> 20391 | K15: =(J15-L15)/L15 -> 1.0177123 | L15: =SUM(국내2!D80:'국내2'!M80) -> 10106
D16: EV5 | E16: =VLOOKUP(D16,국내2!$C$5:$P$33,$E$5+1,0) -> 1150 | F16: =(E16-H16)/H16 -> #DIV/0! | G16: =(E16-I16)/I16 -> 3.2279412 | H16: 0 | I16: =VLOOKUP(D16,국내2!$C$5:$P$33,$I$5+1,0) -> 272 | J16: =국내2!P15 -> 1422 | K16: =(J16-L16)/L16 -> #DIV/0! | L16: 0
D17: EV6 | E17: =VLOOKUP(D17,국내2!$C$5:$P$33,$E$5+1,0) -> 747 | F17: =(E17-H17)/H17 -> 0.34111311 | G17: =(E17-I17)/I17 -> -0.43494705 | H17: =VLOOKUP(D17,국내2!$C$71:$P$96,$E$5+1,0) -> 557 | I17: =VLOOKUP(D17,국내2!$C$5:$P$33,$I$5+1,0) -> 1322 | J17: =국내2!P16 -> 8893 | K17: =J17/L17-1 -> 0.0939845 | L17: =SUM(국내2!D81:'국내2'!M81) -> 8129
D18: EV9 | E18: =VLOOKUP(D18,국내2!$C$5:$P$33,$E$5+1,0) -> 144 | F18: =(E18-H18)/H18 -> -0.094339623 | G18: =(E18-I18)/I18 -> -0.020408163 | H18: =VLOOKUP(D18,국내2!$C$71:$P$96,$E$5+1,0) -> 159 | I18: =VLOOKUP(D18,국내2!$C$5:$P$33,$I$5+1,0) -> 147 | J18: =국내2!P17 -> 1344 | K18: =J18/L18-1 -> -0.23592951 | L18: =SUM(국내2!D82:'국내2'!M82) -> 1759
D19: 셀토스 | E19: =VLOOKUP(D19,국내2!$C$5:$P$33,$E$5+1,0) -> 3365 | F19: =(E19-H19)/H19 -> -0.50674289 | G19: =(E19-I19)/I19 -> -0.32225579 | H19: =VLOOKUP(D19,국내2!$C$71:$P$96,$E$5+1,0) -> 6822 | I19: =VLOOKUP(D19,국내2!$C$5:$P$33,$I$5+1,0) -> 4965 | J19: =국내2!P18 -> 46404 | K19: =J19/L19-1 -> -0.098916463 | L19: =SUM(국내2!D83:'국내2'!M83) -> 51498
D20: 스포티지 | E20: =VLOOKUP(D20,국내2!$C$5:$P$33,$E$5+1,0) -> 4055 | F20: =(E20-H20)/H20 -> -0.26685952 | G20: =(E20-I20)/I20 -> -0.36798628 | H20: =VLOOKUP(D20,국내2!$C$71:$P$96,$E$5+1,0) -> 5531 | I20: =VLOOKUP(D20,국내2!$C$5:$P$33,$I$5+1,0) -> 6416 | J20: =국내2!P19 -> 59743 | K20: =J20/L20-1 -> -0.030051628 | L20: =SUM(국내2!D84:'국내2'!M84) -> 61594
D21: 쏘렌토 | E21: =VLOOKUP(D21,국내2!$C$5:$P$33,$E$5+1,0) -> 6788 | F21: =(E21-H21)/H21 -> -0.14745039 | G21: =(E21-I21)/I21 -> -0.24392961 | H21: =VLOOKUP(D21,국내2!$C$71:$P$96,$E$5+1,0) -> 7962 | I21: =VLOOKUP(D21,국내2!$C$5:$P$33,$I$5+1,0) -> 8978 | J21: =국내2!P20 -> 80479 | K21: =(J21-L21)/L21 -> 0.069118976 | L21: =SUM(국내2!D85:'국내2'!M85) -> 75276
D22: 모하비 | E22: =VLOOKUP(D22,국내2!$C$5:$P$33,$E$5+1,0) -> 0 | F22: =(E22-H22)/H22 -> -1 | G22: =(E22-I22)/I22 -> #DIV/0! | H22: =VLOOKUP(D22,국내2!$C$71:$P$96,$E$5+1,0) -> 98 | I22: =VLOOKUP(D22,국내2!$C$5:$P$33,$I$5+1,0) -> 0 | J22: =국내2!P21 -> 0 | K22: =(J22-L22)/L22 -> -1 | L22: =SUM(국내2!D86:'국내2'!M86) -> 2216
D23: 카니발 | E23: =VLOOKUP(D23,국내2!$C$5:$P$33,$E$5+1,0) -> 4515 | F23: =(E23-H23)/H23 -> -0.20017715 | G23: =(E23-I23)/I23 -> -0.33190293 | H23: =VLOOKUP(D23,국내2!$C$71:$P$96,$E$5+1,0) -> 5645 | I23: =VLOOKUP(D23,국내2!$C$5:$P$33,$I$5+1,0) -> 6758 | J23: =국내2!P22 -> 66984 | K23: =(J23-L23)/L23 -> -0.014897716 | L23: =SUM(국내2!D87:'국내2'!M87) -> 67997
D24: 타스만 | E24: =VLOOKUP(D24,국내2!$C$5:$P$33,$E$5+1,0) -> 611 | F24: =(E24-H24)/H24 -> #DIV/0! | G24: =(E24-I24)/I24 -> -0.21364221 | H24: 0 | I24: =VLOOKUP(D24,국내2!$C$5:$P$33,$I$5+1,0) -> 777 | J24: =국내2!P23 -> 7540 | K24: =(J24-L24)/L24 -> #DIV/0! | L24: 0
D25: RV | E25: =SUM(E14:E24) -> 23926 | F25: =(E25-H25)/H25 -> -0.19824409 | G25: =(E25-I25)/I25 -> -0.26629868 | H25: =SUM(H14:H23) -> 29842 | I25: =SUM(I14:I24) -> 32610 | J25: =SUM(J14:J24) -> 304107 | K25: =(J25-L25)/L25 -> 0.044309144 | L25: =SUM(L14:L23) -> 291204
D26: PV5 | E26: =VLOOKUP(D26,국내2!$C$5:$P$33,$E$5+1,0) -> 1814 | F26: =(E26-H26)/H26 -> #DIV/0! | G26: =(E26-I26)/I26 -> 1.6994048 | H26: 0 | I26: =VLOOKUP(D26,국내2!$C$5:$P$33,$I$5+1,0) -> 672 | J26: =국내2!P25 -> 2647 | K26: =(J26-L26)/L26 -> #DIV/0! | L26: 0
D27: 봉고 | E27: =VLOOKUP(D27,국내2!$C$5:$P$33,$E$5+1,0) -> 2847 | F27: =(E27-H27)/H27 -> -0.10556079 | G27: =(E27-I27)/I27 -> -0.11802974 | H27: =VLOOKUP(D27,국내2!$C$71:$P$96,$E$5+1,0) -> 3183 | I27: =VLOOKUP(D27,국내2!$C$5:$P$33,$I$5+1,0) -> 3228 | J27: =국내2!P26 -> 30644 | K27: =(J27-L27)/L27 -> -0.12340523 | L27: =SUM(국내2!D89:'국내2'!M89) -> 34958
D28: 버스 | E28: =VLOOKUP(D28,국내2!$C$5:$P$33,$E$5+1,0) -> 95 | F28: =(E28-H28)/H28 -> -0.23387097 | G28: =(E28-I28)/I28 -> -0.30656934 | H28: =VLOOKUP(D28,국내2!$C$71:$P$96,$E$5+1,0) -> 124 | I28: =VLOOKUP(D28,국내2!$C$5:$P$33,$I$5+1,0) -> 137 | J28: =국내2!P27 -> 1165 | K28: =(J28-L28)/L28 -> 0.011284722 | L28: =SUM(국내2!D90:'국내2'!M90) -> 1152
D29: 상용 | E29: =SUM(E26:E28) -> 4756 | F29: =(E29-H29)/H29 -> 0.43816148 | G29: =(E29-I29)/I29 -> 0.17810255 | H29: =SUM(H26:H28) -> 3307 | I29: =SUM(I26:I28) -> 4037 | J29: =SUM(J26:J28) -> 34456 | K29: =(J29-L29)/L29 -> -0.045804486 | L29: =SUM(L26:L28) -> 36110
B30: 국내판매 (특수 제외) | E30: =E13+E25+E29 -> 40001 | F30: =(E30-H30)/H30 -> -0.13088539 | G30: =(E30-I30)/I30 -> -0.18366972 | H30: =H13+H25+H29 -> 46025 | I30: =I13+I25+I29 -> 49001 | J30: =J13+J25+J29 -> 453943 | K30: =(J30-L30)/L30 -> 0.017980602 | L30: =L13+L25+L29 -> 445925
D31: 특장 | E31: =VLOOKUP(D31,국내2!$C$5:$P$33,$E$5+1,0) -> 0 | F31: =(E31-H31)/H31 -> #DIV/0! | G31: =(E31-I31)/I31 -> #DIV/0! | H31: =VLOOKUP(D31,국내2!$C$71:$P$96,$E$5+1,0) -> 0 | I31: =VLOOKUP(D31,국내2!$C$5:$P$33,$I$5+1,0) -> 0 | J31: =국내2!P30 -> 0 | K31: =(J31-L31)/L31 -> #DIV/0! | L31: =SUM(국내2!D93:'국내2'!M93) -> 0
D32: 군수 | E32: 343 | F32: =(E32-H32)/H32 -> -0.10909091 | G32: =(E32-I32)/I32 -> 0.715 | H32: =VLOOKUP(D32,국내2!$C$71:$P$96,$E$5+1,0) -> 385 | I32: =VLOOKUP(D32,국내2!$C$5:$P$33,$I$5+1,0) -> 200 | J32: =국내2!P31 -> 1509 | K32: =(J32-L32)/L32 -> -0.11078374 | L32: =SUM(국내2!D94:'국내2'!M94) -> 1697
D33: 특수 차량 | E33: =SUM(E31:E32) -> 343 | F33: =(E33-H33)/H33 -> -0.10909091 | G33: =(E33-I33)/I33 -> 0.715 | H33: =SUM(H31:H32) -> 385 | I33: =SUM(I31:I32) -> 200 | J33: =SUM(J31:J32) -> 1509 | K33: =(J33-L33)/L33 -> -0.11078374 | L33: =SUM(L31:L32) -> 1697
A34: 국내판매 (특수 포함) | E34: =E13+E25+E29+E33 -> 40344 | F34: =(E34-H34)/H34 -> -0.13070459 | G34: =(E34-I34)/I34 -> -0.18001667 | H34: =H13+H25+H29+H33 -> 46410 | I34: =I13+I25+I29+I33 -> 49201 | J34: =J13+J25+J29+J33 -> 455452 | K34: =(J34-L34)/L34 -> 0.017492438 | L34: =L13+L25+L29+L33 -> 447622
D35: 해외(세단·RV·상용) | E35: =VLOOKUP(E5,'⊙ 월별'!B3:J15,5,0) -> 223014 | F35: =(E35-H35)/H35 -> 0.021177807 | G35: =(E35-I35)/I35 -> 0.018659017 | H35: =VLOOKUP(H5,'⊙ 월별'!B19:J31,5,0) -> 218389 | I35: =VLOOKUP(I5,'⊙ 월별'!B3:J15,5,0) -> 218929 | J35: ='⊙ 월별'!F15 -> 2178148 | K35: =(J35-L35)/L35 -> 0.020781665 | L35: =SUM('⊙ 월별'!F19:F28) -> 2133804
D36: 해외(특수) | E36: =VLOOKUP(E5,'⊙ 월별'!B3:J15,6,0) -> 546 | F36: =(E36-H36)/H36 -> 0.0018348624 | G36: =(E36-I36)/I36 -> 1.1245136 | H36: =VLOOKUP(H5,'⊙ 월별'!B19:J31,6,0) -> 545 | I36: =VLOOKUP(I5,'⊙ 월별'!B3:J15,6,0) -> 257 | J36: ='⊙ 월별'!G15 -> 2977 | K36: =(J36-L36)/L36 -> -0.079183421 | L36: =SUM('⊙ 월별'!G19:G28) -> 3233
A37: 해외판매 | E37: =E35+E36 -> 223560 | F37: =(E37-H37)/H37 -> 0.021129656 | G37: =(E37-I37)/I37 -> 0.019955654 | H37: =H35+H36 -> 218934 | I37: =I35+I36 -> 219186 | J37: =J35+J36 -> 2181125 | K37: =(J37-L37)/L37 -> 0.020630434 | L37: =L35+L36 -> 2137037
A38: 계 | E38: =E34+E37 -> 263904 | F38: =(E38-H38)/H38 -> -0.0054269175 | G38: =(E38-I38)/I38 -> -0.016703492 | H38: =H34+H37 -> 265344 | I38: =I37+I34 -> 268387 | J38: =J34+J37 -> 2636577 | K38: =(J38-L38)/L38 -> 0.020086982 | L38: =L37+L34 -> 2584659
A40: ※ 국내 친환경차(HEV / PHEV / EV) 판매
C42: 레이 (계) | E42: =E7 -> 3382 | F42: =(E42-H42)/H42 -> 0.031726663 | G42: =(E42-I42)/I42 -> -0.15513365 | H42: =H7 -> 3278 | I42: =I7 -> 4003 | J42: =J7 -> 39907 | K42: =(J42-L42)/L42 -> -0.0027986706 | L42: =L7 -> 40019
D43: 레이 EV | E43: =HLOOKUP(E5,국내2!C4:P66,34,0) -> 791 | F43: =(E43-H43)/H43 -> 2.268595 | G43: =(E43-I43)/I43 -> -0.2401537 | H43: =HLOOKUP(H5,국내2!C70:P129,31,0) -> 242 | I43: =HLOOKUP(I5,국내2!C4:P66,34,0) -> 1041 | J43: =국내2!P37 -> 8829 | K43: =(J43-L43)/L43 -> -0.077525859 | L43: =SUM(국내2!D100:M100) -> 9571
C45: K5 (계) | E45: =E10 -> 3045 | F45: =(E45-H45)/H45 -> 0.004950495 | G45: =(E45-I45)/I45 -> -0.026223217 | H45: =H10 -> 3030 | I45: =I10 -> 3127 | J45: =J10 -> 29709 | K45: =(J45-L45)/L45 -> 0.021384123 | L45: =L10 -> 29087
D46: K5 HEV | E46: =HLOOKUP(E5,국내2!C4:P66,38,0) -> 546 | F46: =(E46-H46)/H46 -> -0.1838565 | G46: =(E46-I46)/I46 -> -0.2890625 | H46: =HLOOKUP(H5,국내2!C70:P129,35,0) -> 669 | I46: =HLOOKUP(I5,국내2!C4:P66,38,0) -> 768 | J46: =국내2!P41 -> 6422 | K46: =(J46-L46)/L46 -> -0.21778319 | L46: =SUM(국내2!D104:M104) -> 8210
C48: K8 (계) | E48: =E11 -> 2129 | F48: =(E48-H48)/H48 -> -0.57223227 | G48: =(E48-I48)/I48 -> -0.013895322 | H48: =H11 -> 4977 | I48: =I11 -> 2159 | J48: =J11 -> 23428 | K48: =(J48-L48)/L48 -> -0.1004454 | L48: =L11 -> 26044
D49: K8 HEV | E49: =HLOOKUP(E5,국내2!C4:P66,42,0) -> 1294 | F49: =(E49-H49)/H49 -> -0.61396181 | G49: =(E49-I49)/I49 -> -0.013719512 | H49: =HLOOKUP(H5,국내2!C70:P129,39,0) -> 3352 | I49: =HLOOKUP(I5,국내2!C4:P66,42,0) -> 1312 | J49: =국내2!P45 -> 14364 | K49: =(J49-L49)/L49 -> 0.046100066 | L49: =SUM(국내2!D108:M108) -> 13731
C51: 니로 (계) | E51: =E14 -> 1128 | F51: =(E51-H51)/H51 -> 0.17377732 | G51: =(E51-I51)/I51 -> 0.076335878 | H51: =H14 -> 961 | I51: =I14 -> 1048 | J51: =J14 -> 10907 | K51: =(J51-L51)/L51 -> -0.13635284 | L51: =L14 -> 12629
D52: 니로 HEV | E52: =HLOOKUP(E5,국내2!C4:P66,45,0) -> 1122 | F52: =E52/H52-1 -> 0.19234857 | G52: =E52/I52-1 -> 0.094634146 | H52: =HLOOKUP(H5,국내2!C70:P129,42,0) -> 941 | I52: =HLOOKUP(I5,국내2!C4:P66,45,0) -> 1025 | J52: =국내2!P48 -> 10644 | K52: =J52/L52-1 -> -0.06483922 | L52: =SUM(국내2!D111:M111) -> 11382
D53: 니로 EV | E53: =E51-E52 -> 6 | F53: =E53/H53-1 -> -0.7 | G53: =E53/I53-1 -> -0.73913043 | H53: =H51-H52 -> 20 | I53: =I51-I52 -> 23 | J53: =J51-J52 -> 263 | K53: =J53/L53-1 -> -0.78909383 | L53: =L51-L52 -> 1247
C55: EV3 (계) | E55: =E15 -> 1423 | F55: =E55/H55-1 -> -0.32463218 | G55: =E55/I55-1 -> -0.26154645 | H55: =H15 -> 2107 | I55: =I15 -> 1927 | J55: =J15 -> 20391 | K55: =J55/L55-1 -> 1.0177123 | L55: =L15 -> 10106
D56: EV3 | E56: =E55 -> 1423 | F56: =E56/H56-1 -> -0.32463218 | G56: =E56/I56-1 -> -0.26154645 | H56: =H55 -> 2107 | I56: =I55 -> 1927 | J56: =J55 -> 20391 | K56: =J56/L56-1 -> 1.0177123 | L56: =L55 -> 10106
C58: EV4 (계) | E58: =E9 -> 654 | F58: =E58/H58-1 -> #DIV/0! | G58: =E58/I58-1 -> -0.43179844 | H58: 0 | I58: =I9 -> 1151 | J58: =J9 -> 7691 | K58: =J58/L58-1 -> #DIV/0! | L58: =L9 -> 0
D59: EV4 | E59: =E58 -> 654 | F59: =E59/H59-1 -> #DIV/0! | G59: =E59/I59-1 -> -0.43179844 | H59: =H58 -> 0 | I59: =I58 -> 1151 | J59: =J58 -> 7691 | K59: =J59/L59-1 -> #DIV/0! | L59: =L58 -> 0
C61: EV5 (계) | E61: =E16 -> 1150 | F61: =E61/H61-1 -> #DIV/0! | G61: =E61/I61-1 -> 3.2279412 | H61: 0 | I61: =I16 -> 272 | J61: =J16 -> 1422 | K61: =J61/L61-1 -> #DIV/0! | L61: 0
D62: EV5 | E62: =E61 -> 1150 | F62: =E62/H62-1 -> #DIV/0! | G62: =E62/I62-1 -> 3.2279412 | H62: 0 | I62: =I61 -> 272 | J62: =J16 -> 1422 | K62: =J62/L62-1 -> #DIV/0! | L62: =L61 -> 0
C64: EV6 (계) | E64: =E17 -> 747 | F64: =E64/H64-1 -> 0.34111311 | G64: =E64/I64-1 -> -0.43494705 | H64: =H17 -> 557 | I64: =I17 -> 1322 | J64: =J17 -> 8893 | K64: =J64/L64-1 -> 0.0939845 | L64: =L17 -> 8129
D65: EV6 | E65: =E64 -> 747 | F65: =E65/H65-1 -> 0.34111311 | G65: =E65/I65-1 -> -0.43494705 | H65: =H64 -> 557 | I65: =I64 -> 1322 | J65: =J64 -> 8893 | K65: =J65/L65-1 -> 0.0939845 | L65: =L64 -> 8129
C67: EV9 (계) | E67: =E18 -> 144 | F67: =E67/H67-1 -> -0.094339623 | G67: =E67/I67-1 -> -0.020408163 | H67: =H18 -> 159 | I67: =I18 -> 147 | J67: =J18 -> 1344 | K67: =J67/L67-1 -> -0.23592951 | L67: =L18 -> 1759
D68: EV9 | E68: =E67 -> 144 | F68: =E68/H68-1 -> -0.094339623 | G68: =E68/I68-1 -> -0.020408163 | H68: =H67 -> 159 | I68: =I67 -> 147 | J68: =J67 -> 1344 | K68: =J68/L68-1 -> -0.23592951 | L68: =L67 -> 1759
C70: 스포티지 (계) | E70: =E20 -> 4055 | F70: =E70/H70-1 -> -0.26685952 | G70: =E70/I70-1 -> -0.36798628 | H70: =H20 -> 5531 | I70: =I20 -> 6416 | J70: =J20 -> 59743 | K70: =J70/L70-1 -> -0.030051628 | L70: =L20 -> 61594
D71: 스포티지 HEV | E71: =HLOOKUP(E5,국내2!C4:P66,51,0) -> 1389 | F71: =E71/H71-1 -> -0.36371965 | G71: =E71/I71-1 -> -0.34910965 | H71: =HLOOKUP(H5,국내2!C70:P129,48,0) -> 2183 | I71: =HLOOKUP(I5,국내2!C4:P66,51,0) -> 2134 | J71: =국내2!P54 -> 22905 | K71: =J71/L71-1 -> -0.12419225 | L71: =SUM(국내2!D117:M117) -> 26153
C73: 쏘렌토 (계) | E73: =E21 -> 6788 | F73: =E73/H73-1 -> -0.14745039 | G73: =E73/I73-1 -> -0.24392961 | H73: =H21 -> 7962 | I73: =I21 -> 8978 | J73: =J21 -> 80479 | K73: =J73/L73-1 -> 0.069118976 | L73: =L21 -> 75276
D74: 쏘렌토 HEV | E74: =HLOOKUP(E5,국내2!C4:P66,55,0) -> 4128 | F74: =E74/H74-1 -> -0.26704545 | G74: =E74/I74-1 -> -0.30575177 | H74: =HLOOKUP(H5,국내2!C70:P129,52,0) -> 5632 | I74: =HLOOKUP(I5,국내2!C4:P66,55,0) -> 5946 | J74: =국내2!P58 -> 57257 | K74: =J74/L74-1 -> 0.062538275 | L74: =SUM(국내2!D121:M121) -> 53887
C76: 카니발 (계) | E76: =E23 -> 4515 | F76: =E76/H76-1 -> -0.20017715 | G76: =E76/I76-1 -> -0.33190293 | H76: =H23 -> 5645 | I76: =I23 -> 6758 | J76: =J23 -> 66984 | K76: =J76/L76-1 -> -0.014897716 | L76: =L23 -> 67997
D77: 카니발 HEV | E77: =HLOOKUP(E5,국내2!C4:P66,59,0) -> 2384 | F77: =E77/H77-1 -> 0.062862238 | G77: =E77/I77-1 -> -0.48106226 | H77: =HLOOKUP(H5,국내2!C70:P129,56,0) -> 2243 | I77: =HLOOKUP(I5,국내2!C4:P66,59,0) -> 4594 | J77: =국내2!P62 -> 38329 | K77: =J77/L77-1 -> 0.19171097 | L77: =SUM(국내2!D125:M125) -> 32163
C79: PV5 (계) | E79: =E26 -> 1814 | F79: =E79/H79-1 -> #DIV/0! | G79: =E79/I79-1 -> 1.6994048 | H79: 0 | I79: =I26 -> 672 | J79: =J26 -> 2647 | K79: =J79/L79-1 -> #DIV/0! | L79: 0
D80: PV5 | E80: =E79 -> 1814 | F80: =E80/H80-1 -> #DIV/0! | G80: =E80/I80-1 -> 1.6994048 | H80: 0 | I80: =I79 -> 672 | J80: =J79 -> 2647 | K80: =J80/L80-1 -> #DIV/0! | L80: 0
C82: 봉고 (계) | E82: =E27 -> 2847 | F82: =E82/H82-1 -> -0.10556079 | G82: =E82/I82-1 -> -0.11802974 | H82: =H27 -> 3183 | I82: =I27 -> 3228 | J82: =J27 -> 30644 | K82: =J82/L82-1 -> -0.12340523 | L82: =L27 -> 34958
D83: 봉고 EV | E83: =HLOOKUP(E5,국내2!C4:P66,63,0) -> 333 | F83: =E83/H83-1 -> -0.45765472 | G83: =E83/I83-1 -> -0.334 | H83: =HLOOKUP(H5,국내2!C70:P129,60,0) -> 614 | I83: =HLOOKUP(I5,국내2!C4:P66,63,0) -> 500 | J83: =국내2!P66 -> 4754 | K83: =J83/L83-1 -> -0.016956162 | L83: =SUM(국내2!D129:M129) -> 4836
C85: 친환경 합계 | E85: =E46+E49+E51+E83+E74+E71+E64+E67+E43+E77+E55+E58+E80+E61 -> 17925 | F85: =E85/H85-1 -> -0.042416796 | G85: =E85/I85-1 -> -0.20552256 | H85: =H46+H49+H51+H83+H74+H71+H64+H67+H43+H55+H77 -> 18719 | I85: =I46+I58+I49+I51+I83+I74+I71+I64+I67+I43+I77+I55+I80 -> 22562 | J85: =J46+J49+J51+J83+J74+J71+J64+J67+J43+J77+J55+J58+J80+J61 -> 206155 | K85: =J85/L85-1 -> 0.13788402 | L85: =L46+L49+L51+L83+L74+L71+L64+L67+L43+L77+L55+L58 -> 181174
D86: HEV | E86: =E85-E87 -> 10863 | F86: =E86/H86-1 -> -0.27676431 | G86: =E86/I86-1 -> -0.29947766 | H86: =H85-H87 -> 15020 | I86: =I85-I87 -> 15507 | J86: =J85-J87 -> 149921 | K86: =J86/L86-1 -> 0.030200789 | L86: =L85-L87 -> 145526
D87: EV | E87: =E83+E68+E65+E56+E53+E43+E59+E80+E62 -> 7062 | F87: =E87/H87-1 -> 0.90916464 | G87: =E87/I87-1 -> 0.00099220411 | H87: =H83+H68+H65+H56+H53+H43+H59+H62 -> 3699 | I87: =I83+I68+I65+I56+I53+I43+I59+I80+I62 -> 7055 | J87: =J83+J68+J65+J56+J53+J43+J59+J80+J62 -> 56234 | K87: =J87/L87-1 -> 0.5774798 | L87: =L83+L68+L65+L56+L53+L43+L59+L62+L80 -> 35648

Sheet 국내2
B1: ◆ 차종별 실적 - 국내판매
B3: ※ 2025년
C4: 차 종 | D4: 1 | E4: 2 | F4: 3 | G4: 4 | H4: 5 | I4: 6 | J4: 7 | K4: 8 | L4: 9 | M4: 10 | N4: 11 | O4: 12 | P4: 계
B5: 승용 | C5: 모닝 | D5: 1484 | E5: 765 | F5: 579 | G5: 1028 | H5: 1527 | I5: 1204 | J5: 838 | K5: 2080 | L5: 1805 | M5: 2062 | P5: =SUM(D5:O5) -> 13372
C6: 레이 | D6: 3876 | E6: 4287 | F6: 4584 | G6: 4262 | H6: 4000 | I6: 4260 | J6: 3769 | K6: 3484 | L6: 4003 | M6: 3382 | P6: =SUM(D6:O6) -> 39907
C7: K3 | P7: =SUM(D7:O7) -> 0
C8: EV4 | D8: 0 | E8: 0 | F8: 0 | G8: 831 | H8: 1373 | I8: 1073 | J8: 1485 | K8: 1124 | L8: 1151 | M8: 654 | P8: =SUM(D8:O8) -> 7691
C9: K5 | D9: 2583 | E9: 2503 | F9: 2863 | G9: 3581 | H9: 3028 | I9: 2873 | J9: 2868 | K9: 3238 | L9: 3127 | M9: 3045 | P9: =SUM(D9:O9) -> 29709
C10: K8 | D10: 2297 | E10: 2457 | F10: 2704 | G10: 2566 | H10: 2627 | I10: 2423 | J10: 2090 | K10: 1976 | L10: 2159 | M10: 2129 | P10: =SUM(D10:O10) -> 23428
C11: K9 | D11: 123 | E11: 164 | F11: 226 | G11: 147 | H11: 109 | I11: 92 | J11: 113 | K11: 143 | L11: 109 | M11: 47 | P11: =SUM(D11:O11) -> 1273
C12: 계 | D12: =SUM(D5:D11) -> 10363 | E12: =SUM(E5:E11) -> 10176 | F12: =SUM(F5:F11) -> 10956 | G12: =SUM(G5:G11) -> 12415 | H12: =SUM(H5:H11) -> 12664 | I12: =SUM(I5:I11) -> 11925 | J12: =SUM(J5:J11) -> 11163 | K12: =SUM(K5:K11) -> 12045 | ... P12: =SUM(P5:P11) -> 115380
B13: RV | C13: 니로 | D13: 571 | E13: 854 | F13: 1176 | G13: 1716 | H13: 1310 | I13: 1007 | J13: 1035 | K13: 1062 | L13: 1048 | M13: 1128 | P13: =SUM(D13:O13) -> 10907
C14: EV3 | D14: 429 | E14: 2257 | F14: 3032 | G14: 3057 | H14: 1866 | I14: 1884 | J14: 2199 | K14: 2317 | L14: 1927 | M14: 1423 | P14: =SUM(D14:O14) -> 20391
C15: EV5 | L15: 272 | M15: 1150 | P15: =SUM(D15:O15) -> 1422
C16: EV6 | D16: 72 | E16: 1100 | F16: 1163 | G16: 789 | H16: 957 | I16: 727 | J16: 936 | K16: 1080 | L16: 1322 | M16: 747 | P16: =SUM(D16:O16) -> 8893
C17: EV9 | D17: 37 | E17: 88 | F17: 202 | G17: 150 | H17: 178 | I17: 113 | J17: 173 | K17: 112 | L17: 147 | M17: 144 | P17: =SUM(D17:O17) -> 1344
C18: 셀토스 | D18: 4342 | E18: 4764 | F18: 5351 | G18: 5101 | H18: 4257 | I18: 5100 | J18: 4921 | K18: 4238 | L18: 4965 | M18: 3365 | P18: =SUM(D18:O18) -> 46404
C19: 스포티지 | D19: 6547 | E19: 6568 | F19: 6617 | G19: 6703 | H19: 5295 | I19: 6363 | J19: 5424 | K19: 5755 | L19: 6416 | M19: 4055 | P19: =SUM(D19:O19) -> 59743
C20: 쏘렌토 | D20: 7454 | E20: 9067 | F20: 10155 | G20: 8796 | H20: 7734 | I20: 7923 | J20: 7053 | K20: 6531 | L20: 8978 | M20: 6788 | P20: =SUM(D20:O20) -> 80479
C21: 모하비 | D21: 0 | E21: 0 | F21: 0 | G21: 0 | H21: 0 | I21: 0 | J21: 0 | P21: =SUM(D21:O21) -> 0
C22: 카니발 | D22: 6068 | E22: 7734 | F22: 7710 | G22: 7592 | H22: 6651 | I22: 6714 | J22: 7211 | K22: 6031 | L22: 6758 | M22: 4515 | P22: =SUM(D22:O22) -> 66984
C23: 타스만 | D23: 0 | E23: 0 | F23: 96 | G23: 1248 | H23: 1348 | I23: 1302 | J23: 1271 | K23: 887 | L23: 777 | M23: 611 | P23: =SUM(D23:O23) -> 7540
C24: 계 | D24: =SUM(D13:D23) -> 25520 | E24: =SUM(E13:E23) -> 32432 | F24: =SUM(F13:F23) -> 35502 | G24: =SUM(G13:G23) -> 35152 | H24: =SUM(H13:H23) -> 29596 | I24: =SUM(I13:I23) -> 31133 | J24: =SUM(J13:J23) -> 30223 | K24: =SUM(K13:K23) -> 28013 | ... P24: =SUM(P13:P23) -> 304107
B25: 상 용 | C25: PV5 | K25: 161 | L25: 672 | M25: 1814 | P25: =SUM(D25:O25) -> 2647
C26: 봉고 | D26: 2419 | E26: 3281 | F26: 3419 | G26: 3303 | H26: 2629 | I26: 2830 | J26: 3520 | K26: 3168 | L26: 3228 | M26: 2847 | P26: =SUM(D26:O26) -> 30644
C27: 버스 | D27: 101 | E27: 114 | F27: 129 | G27: 135 | H27: 114 | I27: 115 | J27: 111 | K27: 114 | L27: 137 | M27: 95 | P27: =SUM(D27:O27) -> 1165
C28: 계 | D28: =SUM(D25:D27) -> 2520 | E28: =SUM(E25:E27) -> 3395 | F28: =SUM(F25:F27) -> 3548 | G28: =SUM(G25:G27) -> 3438 | H28: =SUM(H25:H27) -> 2743 | I28: =SUM(I25:I27) -> 2945 | J28: =SUM(J25:J27) -> 3631 | K28: =SUM(K25:K27) -> 3443 | ... P28: =SUM(P25:P27) -> 34456
B29: 계 (특수 제외) | D29: =D12+D24+D28 -> 38403 | E29: =E12+E24+E28 -> 46003 | F29: =F12+F24+F28 -> 50006 | G29: =G12+G24+G28 -> 51005 | H29: =H12+H24+H28 -> 45003 | I29: =I12+I24+I28 -> 46003 | J29: =J12+J24+J28 -> 45017 | K29: =K12+K24+K28 -> 43501 | ... P29: =P12+P24+P28 -> 453943
B30: 특수 | C30: 특장 | P30: =SUM(D30:O30) -> 0
C31: 군수 | D31: 9 | E31: 44 | F31: 99 | G31: 80 | H31: 122 | I31: 322 | J31: 116 | K31: 174 | L31: 200 | M31: 343 | P31: =SUM(D31:O31) -> 1509
C32: 계 | D32: =SUM(D30:D31) -> 9 | E32: =SUM(E30:E31) -> 44 | F32: =SUM(F30:F31) -> 99 | G32: =SUM(G30:G31) -> 80 | H32: =SUM(H30:H31) -> 122 | I32: =SUM(I30:I31) -> 322 | J32: =SUM(J30:J31) -> 116 | K32: =SUM(K30:K31) -> 174 | ... P32: =SUM(P30:P31) -> 1509
B33: 총 계 | D33: =D12+D24+D28+D32 -> 38412 | E33: =E12+E24+E28+E32 -> 46047 | F33: =F12+F24+F28+F32 -> 50105 | G33: =G12+G24+G28+G32 -> 51085 | H33: =H12+H24+H28+H32 -> 45125 | I33: =I12+I24+I28+I32 -> 46325 | J33: =J12+J24+J28+J32 -> 45133 | K33: =K12+K24+K28+K32 -> 43675 | ... P33: =P12+P24+P28+P32 -> 455452
B35: 레이 | D35: =D6 -> 3876 | E35: =E6 -> 4287 | F35: =F6 -> 4584 | G35: =G6 -> 4262 | H35: =H6 -> 4000 | I35: =I6 -> 4260 | J35: =J6 -> 3769 | K35: =K6 -> 3484 | ... P35: =P6 -> 39907
C36: 레이 | D36: =D35-D37 -> 3803 | E36: =E35-E37 -> 3774 | F36: =F35-F37 -> 3375 | G36: =G35-G37 -> 3634 | H36: =H35-H37 -> 3194 | I36: =I35-I37 -> 2955 | J36: =J35-J37 -> 2327 | K36: =K35-K37 -> 2463 | ... O36: =O35-O37 -> 0 | P36: =SUM(D36:O36) -> 31078
C37: 레이 EV | D37: 73 | E37: 513 | F37: 1209 | G37: 628 | H37: 806 | I37: 1305 | J37: 1442 | K37: 1021 | L37: 1041 | M37: 791 | P37: =SUM(D37:O37) -> 8829
B39: K5 | D39: =D9 -> 2583 | E39: =E9 -> 2503 | F39: =F9 -> 2863 | G39: =G9 -> 3581 | H39: =H9 -> 3028 | I39: =I9 -> 2873 | J39: =J9 -> 2868 | K39: =K9 -> 3238 | ... P39: =P9 -> 29709
C40: DL3 | D40: =D39-D41 -> 2025 | E40: =E39-E41 -> 1981 | F40: =F39-F41 -> 2219 | G40: =G39-G41 -> 2980 | H40: =H39-H41 -> 2494 | I40: =I39-I41 -> 2241 | J40: =J39-J41 -> 2152 | K40: =K39-K41 -> 2337 | ... O40: =O39-O41 -> 0 | P40: =SUM(D40:O40) -> 23287
C41: DL3 HEV | D41: 558 | E41: 522 | F41: 644 | G41: 601 | H41: 534 | I41: 632 | J41: 716 | K41: 901 | L41: 768 | M41: 546 | P41: =SUM(D41:O41) -> 6422
B43: K8(K7 후속) | D43: =D10 -> 2297 | E43: =E10 -> 2457 | F43: =F10 -> 2704 | G43: =G10 -> 2566 | H43: =H10 -> 2627 | I43: =I10 -> 2423 | J43: =J10 -> 2090 | K43: =K10 -> 1976 | ... P43: =P10 -> 23428
C44: GL3 | D44: =D43-D45 -> 1083 | E44: =E43-E45 -> 945 | F44: =F43-F45 -> 1055 | G44: =G43-G45 -> 1025 | H44: =H43-H45 -> 975 | I44: =I43-I45 -> 752 | J44: =J43-J45 -> 768 | K44: =K43-K45 -> 779 | ... O44: =O43-O45 -> 0 | P44: =SUM(D44:O44) -> 9064
C45: GL3 HEV | D45: 1214 | E45: 1512 | F45: 1649 | G45: 1541 | H45: 1652 | I45: 1671 | J45: 1322 | K45: 1197 | L45: 1312 | M45: 1294 | P45: =SUM(D45:O45) -> 14364
B47: 니로 | D47: =D13 -> 571 | E47: =E13 -> 854 | F47: =F13 -> 1176 | G47: =G13 -> 1716 | H47: =H13 -> 1310 | I47: =I13 -> 1007 | J47: =J13 -> 1035 | K47: =K13 -> 1062 | ... O47: =O13 -> 0 | P47: =SUM(D47:O47) -> 10907
C48: HEV | D48: =D47-D49-D50 -> 560 | E48: =E47-E49-E50 -> 800 | F48: =F47-F49-F50 -> 1147 | G48: =G47-G49-G50 -> 1644 | H48: =H47-H49-H50 -> 1283 | I48: =I47-I49-I50 -> 999 | J48: =J47-J49-J50 -> 1027 | K48: =K47-K49-K50 -> 1037 | ... O48: =O47-O49-O50 -> 0 | P48: =SUM(D48:O48) -> 10644
C49: EV | D49: 11 | E49: 53 | F49: 29 | G49: 72 | H49: 27 | I49: 8 | J49: 8 | K49: 25 | L49: 23 | M49: 6 | P49: =SUM(D49:O49) -> 262
C50: 니로 플러스 | D50: 0 | E50: 1 | K50: 0 | P50: =SUM(D50:O50) -> 1
B52: 스포티지 | D52: =D19 -> 6547 | E52: =E19 -> 6568 | F52: =F19 -> 6617 | G52: =G19 -> 6703 | H52: =H19 -> 5295 | I52: =I19 -> 6363 | J52: =J19 -> 5424 | K52: =K19 -> 5755 | ... O52: =O19 -> 0 | P52: =SUM(D52:O52) -> 59743
C53: NQ5 | D53: =D52-D54 -> 4402 | E53: =E52-E54 -> 4225 | F53: =F52-F54 -> 4055 | G53: =G52-G54 -> 3678 | H53: =H52-H54 -> 2460 | I53: =I52-I54 -> 3330 | J53: =J52-J54 -> 3651 | K53: =K52-K54 -> 4089 | ... O53: =O52-O54 -> 0 | P53: =SUM(D53:O53) -> 36838
C54: NQ5 HEV | D54: 2145 | E54: 2343 | F54: 2562 | G54: 3025 | H54: 2835 | I54: 3033 | J54: 1773 | K54: 1666 | L54: 2134 | M54: 1389 | P54: =SUM(D54:O54) -> 22905
B56: 쏘렌토 | D56: =D20 -> 7454 | E56: =E20 -> 9067 | F56: =F20 -> 10155 | G56: =G20 -> 8796 | H56: =H20 -> 7734 | I56: =I20 -> 7923 | J56: =J20 -> 7053 | K56: =K20 -> 6531 | ... O56: =O20 -> 0 | P56: =SUM(D56:O56) -> 80479
C57: MQ4 | D57: =D56-D58 -> 2673 | E57: =E56-E58 -> 2187 | F57: =F56-F58 -> 3218 | G57: =G56-G58 -> 2759 | H57: =H56-H58 -> 1759 | I57: =I56-I58 -> 1791 | J57: =J56-J58 -> 1241 | K57: =K56-K58 -> 1902 | ... O57: =O56-O58 -> 0 | P57: =SUM(D57:O57) -> 23222
C58: MQ4 HEV | D58: 4781 | E58: 6880 | F58: 6937 | G58: 6037 | H58: 5975 | I58: 6132 | J58: 5812 | K58: 4629 | L58: 5946 | M58: 4128 | P58: =SUM(D58:O58) -> 57257
B60: 카니발 | D60: =D22 -> 6068 | E60: =E22 -> 7734 | F60: =F22 -> 7710 | G60: =G22 -> 7592 | H60: =H22 -> 6651 | I60: =I22 -> 6714 | J60: =J22 -> 7211 | K60: =K22 -> 6031 | ... O60: =O22 -> 0 | P60: =SUM(D60:O60) -> 66984
C61: KA4 | D61: =D60-D62 -> 2772 | E61: =E60-E62 -> 3560 | F61: =F60-F62 -> 3798 | G61: =G60-G62 -> 3302 | H61: =H60-H62 -> 3151 | I61: =I60-I62 -> 2966 | J61: =J60-J62 -> 2870 | K61: =K60-K62 -> 1941 | ... O61: =O60-O62 -> 0 | P61: =SUM(D61:O61) -> 28655
C62: KA4 HEV | D62: 3296 | E62: 4174 | F62: 3912 | G62: 4290 | H62: 3500 | I62: 3748 | J62: 4341 | K62: 4090 | L62: 4594 | M62: 2384 | P62: =SUM(D62:O62) -> 38329
P63: =SUM(D63:O63) -> 0
B64: 봉고 | D64: =D26 -> 2419 | E64: =E26 -> 3281 | F64: =F26 -> 3419 | G64: =G26 -> 3303 | H64: =H26 -> 2629 | I64: =I26 -> 2830 | J64: =J26 -> 3520 | K64: =K26 -> 3168 | L64: =L26 -> 3228 | M64: =M25 -> 1814 | N64: =N25 -> 0 | O64: =O25 -> 0 | P64: =SUM(D64:O64) -> 29611
C65: 봉고 | D65: =D64-D66 -> 2419 | E65: =E64-E66 -> 2627 | F65: =F64-F66 -> 2542 | G65: =G64-G66 -> 2806 | H65: =H64-H66 -> 2319 | I65: =I64-I66 -> 2575 | J65: =J64-J66 -> 2836 | K65: =K64-K66 -> 2524 | ... O65: =O64-O66 -> 0 | P65: =SUM(D65:O65) -> 24857
C66: 봉고 EV | D66: 0 | E66: 654 | F66: 877 | G66: 497 | H66: 310 | I66: 255 | J66: 684 | K66: 644 | L66: 500 | M66: 333 | P66: =SUM(D66:O66) -> 4754
B69: ※ 2024년
C70: 차 종 | D70: 1 | E70: 2 | F70: 3 | G70: 4 | H70: 5 | I70: 6 | J70: 7 | K70: 8 | L70: 9 | M70: 10 | N70: 11 | O70: 12 | P70: 계
B71: 승용 | C71: 모닝 | D71: 1214 | E71: 1140 | F71: 1416 | G71: 1421 | H71: 907 | I71: 985 | J71: 1335 | K71: 910 | L71: 968 | M71: 1464 | N71: 1467 | O71: 2608 | P71: =SUM(D71:O71) -> 15835
C72: 레이 | D72: 4130 | E72: 3972 | F72: 4692 | G72: 4460 | H72: 4456 | I72: 3574 | J72: 4384 | K72: 3710 | L72: 3363 | M72: 3278 | N72: 4753 | O72: 4219 | P72: =SUM(D72:O72) -> 48991
C73: K3 | D73: 1419 | E73: 1315 | F73: 1460 | G73: 1336 | H73: 995 | I73: 1341 | J73: 1373 | K73: 588 | L73: 4 | M73: 0 | N73: 0 | O73: 0 | P73: =SUM(D73:O73) -> 9831
C74: K5 | D74: 3336 | E74: 2970 | F74: 3577 | G74: 3168 | H74: 2405 | I74: 2932 | J74: 2702 | K74: 2690 | L74: 2277 | M74: 3030 | N74: 2645 | O74: 2105 | P74: =SUM(D74:O74) -> 33837
C75: K8 | D75: 2917 | E75: 2165 | F75: 2016 | G75: 1988 | H75: 1873 | I75: 1519 | J75: 1154 | K75: 2711 | L75: 4724 | M75: 4977 | N75: 4336 | O75: 2354 | P75: =SUM(D75:O75) -> 32734
C76: 스팅어 | D76: 0 | P76: =SUM(D76:O76) -> 0
C77: K9 | D77: 175 | E77: 191 | F77: 140 | G77: 253 | H77: 282 | I77: 160 | J77: 202 | K77: 177 | L77: 163 | M77: 127 | N77: 99 | O77: 240 | P77: =SUM(D77:O77) -> 2209
C78: 계 | D78: =SUM(D71:D77) -> 13191 | E78: =SUM(E71:E77) -> 11753 | F78: =SUM(F71:F77) -> 13301 | G78: =SUM(G71:G77) -> 12626 | H78: =SUM(H71:H77) -> 10918 | I78: =SUM(I71:I77) -> 10511 | J78: =SUM(J71:J77) -> 11150 | K78: =SUM(K71:K77) -> 10786 | ... P78: =SUM(P71:P77) -> 143437
B79: RV | C79: 니로 | D79: 1241 | E79: 940 | F79: 1137 | G79: 1938 | H79: 1776 | I79: 1398 | J79: 1213 | K79: 1152 | L79: 873 | M79: 961 | N79: 1163 | O79: 1186 | P79: =SUM(D79:O79) -> 14978
C80: EV3 | J80: 1975 | K80: 4002 | L80: 2022 | M80: 2107 | N80: 2284 | O80: 461 | P80: =SUM(D80:O80) -> 12851
C81: EV6 | D81: 29 | E81: 155 | F81: 1275 | G81: 1036 | H81: 1380 | I81: 1430 | J81: 1344 | K81: 599 | L81: 324 | M81: 557 | N81: 770 | O81: 155 | P81: =SUM(D81:O81) -> 9054
C82: EV9 | D82: 449 | E82: 124 | F82: 183 | G82: 174 | H82: 182 | I82: 113 | J82: 161 | K82: 92 | L82: 122 | M82: 159 | N82: 144 | O82: 109 | P82: =SUM(D82:O82) -> 2012
C83: 셀토스 | D83: 3944 | E83: 3967 | F83: 4748 | G83: 5025 | H83: 6120 | I83: 5399 | J83: 5489 | K83: 5551 | L83: 4433 | M83: 6822 | N83: 4887 | O83: 5512 | P83: =SUM(D83:O83) -> 61897
C84: 스포티지 | D84: 5934 | E84: 6991 | F84: 6736 | G84: 7179 | H84: 6644 | I84: 5815 | J84: 6235 | K84: 5988 | L84: 4541 | M84: 5531 | N84: 4233 | O84: 8428 | P84: =SUM(D84:O84) -> 74255
C85: 쏘렌토 | D85: 9284 | E85: 8671 | F85: 8974 | G85: 7865 | H85: 7487 | I85: 7307 | J85: 7596 | K85: 3502 | L85: 6628 | M85: 7962 | N85: 10434 | O85: 8828 | P85: =SUM(D85:O85) -> 94538
C86: 모하비 | D86: 291 | E86: 241 | F86: 298 | G86: 257 | H86: 224 | I86: 288 | J86: 197 | K86: 204 | L86: 118 | M86: 98 | N86: 78 | O86: 0 | P86: =SUM(D86:O86) -> 2294
C87: 카니발 | D87: 7049 | E87: 7989 | F87: 7643 | G87: 6879 | H87: 7211 | I87: 8097 | J87: 7050 | K87: 5534 | L87: 4900 | M87: 5645 | N87: 7516 | O87: 7235 | P87: =SUM(D87:O87) -> 82748
C88: 계 | D88: =SUM(D79:D87) -> 28221 | E88: =SUM(E79:E87) -> 29078 | F88: =SUM(F79:F87) -> 30994 | G88: =SUM(G79:G87) -> 30353 | H88: =SUM(H79:H87) -> 31024 | I88: =SUM(I79:I87) -> 29847 | J88: =SUM(J79:J87) -> 31260 | K88: =SUM(K79:K87) -> 26624 | ... P88: =SUM(P79:P87) -> 354627
B89: 상 용 | C89: 봉고 | D89: 3074 | E89: 3077 | F89: 4584 | G89: 4404 | H89: 4050 | I89: 3523 | J89: 3487 | K89: 2990 | L89: 2586 | M89: 3183 | N89: 3083 | O89: 2498 | P89: =SUM(D89:O89) -> 40539
C90: 버스 | D90: 122 | E90: 100 | F90: 127 | G90: 122 | H90: 118 | I90: 122 | J90: 113 | K90: 110 | L90: 94 | M90: 124 | N90: 123 | O90: 132 | P90: =SUM(D90:O90) -> 1407
C91: 계 | D91: =SUM(D89:D90) -> 3196 | E91: =SUM(E89:E90) -> 3177 | F91: =SUM(F89:F90) -> 4711 | G91: =SUM(G89:G90) -> 4526 | H91: =SUM(H89:H90) -> 4168 | I91: =SUM(I89:I90) -> 3645 | J91: =SUM(J89:J90) -> 3600 | K91: =SUM(K89:K90) -> 3100 | ... P91: =SUM(P89:P90) -> 41946
B92: 계 (특수 제외) | D92: =D78+D88+D91 -> 44608 | E92: =E78+E88+E91 -> 44008 | F92: =F78+F88+F91 -> 49006 | G92: =G78+G88+G91 -> 47505 | H92: =H78+H88+H91 -> 46110 | I92: =I78+I88+I91 -> 44003 | J92: =J78+J88+J91 -> 46010 | K92: =K78+K88+K91 -> 40510 | ... P92: =P78+P88+P91 -> 540010
B93: 특수 | C93: 특장 | P93: =SUM(D93:O93) -> 0
C94: 군수 | D94: 75 | E94: 68 | F94: 106 | G94: 126 | H94: 125 | I94: 281 | J94: 228 | K94: 174 | L94: 129 | M94: 385 | N94: 177 | O94: 262 | P94: =SUM(D94:O94) -> 2136
C95: 계 | D95: =SUM(D93:D94) -> 75 | E95: =SUM(E93:E94) -> 68 | F95: =SUM(F93:F94) -> 106 | G95: =SUM(G93:G94) -> 126 | H95: =SUM(H93:H94) -> 125 | I95: =SUM(I93:I94) -> 281 | J95: =SUM(J93:J94) -> 228 | K95: =SUM(K93:K94) -> 174 | ... P95: =SUM(P93:P94) -> 2136
B96: 총 계 | D96: =D78+D88+D91+D95 -> 44683 | E96: =E78+E88+E91+E95 -> 44076 | F96: =F78+F88+F91+F95 -> 49112 | G96: =G78+G88+G91+G95 -> 47631 | H96: =H78+H88+H91+H95 -> 46235 | I96: =I78+I88+I91+I95 -> 44284 | J96: =J78+J88+J91+J95 -> 46238 | K96: =K78+K88+K91+K95 -> 40684 | ... P96: =P78+P88+P91+P95 -> 542146
B98: 레이 | D98: =D72 -> 4130 | E98: =E72 -> 3972 | F98: =F72 -> 4692 | G98: =G72 -> 4460 | H98: =H72 -> 4456 | I98: =I72 -> 3574 | J98: =J72 -> 4384 | K98: =K72 -> 3710 | ... P98: =P72 -> 48991
C99: 레이 | D99: =D98-D100 -> 4020 | E99: =E98-E100 -> 3160 | F99: =F98-F100 -> 3172 | G99: =G98-G100 -> 3244 | H99: =H98-H100 -> 3178 | I99: =I98-I100 -> 2285 | J99: =J98-J100 -> 2977 | K99: =K98-K100 -> 2787 | ... O99: =O98-O100 -> 4046 | P99: =SUM(D99:O99) -> 38911
C100: 레이 EV | D100: 110 | E100: 812 | F100: 1520 | G100: 1216 | H100: 1278 | I100: 1289 | J100: 1407 | K100: 923 | L100: 774 | M100: 242 | N100: 336 | O100: 173 | P100: =SUM(D100:O100) -> 10080
B102: K5 | D102: =D74 -> 3336 | E102: =E74 -> 2970 | F102: =F74 -> 3577 | G102: =G74 -> 3168 | H102: =H74 -> 2405 | I102: =I74 -> 2932 | J102: =J74 -> 2702 | K102: =K74 -> 2690 | ... P102: =P74 -> 33837
C103: DL3 | D103: =D102-D104 -> 2204 | E103: =E102-E104 -> 1962 | F103: =F102-F104 -> 2210 | G103: =G102-G104 -> 2189 | H103: =H102-H104 -> 1542 | I103: =I102-I104 -> 2380 | J103: =J102-J104 -> 2148 | K103: =K102-K104 -> 2040 | ... O103: =O102-O104 -> 1674 | P103: =SUM(D103:O103) -> 24311
C104: DL3 HEV | D104: 1132 | E104: 1008 | F104: 1367 | G104: 979 | H104: 863 | I104: 552 | J104: 554 | K104: 650 | L104: 436 | M104: 669 | N104: 885 | O104: 431 | P104: =SUM(D104:O104) -> 9526
B106: K8(K7 후속) | D106: =D75 -> 2917 | E106: =E75 -> 2165 | F106: =F75 -> 2016 | G106: =G75 -> 1988 | H106: =H75 -> 1873 | I106: =I75 -> 1519 | J106: =J75 -> 1154 | K106: =K75 -> 2711 | ... P106: =P75 -> 32734
C107: GL3 | D107: =D106-D108 -> 1355 | E107: =E106-E108 -> 1178 | F107: =F106-F108 -> 975 | G107: =G106-G108 -> 1070 | H107: =H106-H108 -> 1015 | I107: =I106-I108 -> 823 | J107: =J106-J108 -> 511 | K107: =K106-K108 -> 1521 | ... O107: =O106-O108 -> 771 | P107: =SUM(D107:O107) -> 14062
C108: GL3 HEV | D108: 1562 | E108: 987 | F108: 1041 | G108: 918 | H108: 858 | I108: 696 | J108: 643 | K108: 1190 | L108: 2484 | M108: 3352 | N108: 3358 | O108: 1583 | P108: =SUM(D108:O108) -> 18672
B110: 니로 | D110: =D79 -> 1241 | E110: =E79 -> 940 | F110: =F79 -> 1137 | G110: =G79 -> 1938 | H110: =H79 -> 1776 | I110: =I79 -> 1398 | J110: =J79 -> 1213 | K110: =K79 -> 1152 | ... O110: =O79 -> 1186 | P110: =SUM(D110:O110) -> 14978
C111: HEV | D111: =D110-D112-D113 -> 1220 | E111: =E110-E112-E113 -> 938 | F111: =F110-F112-F113 -> 917 | G111: =G110-G112-G113 -> 1597 | H111: =H110-H112-H113 -> 1596 | I111: =I110-I112-I113 -> 1210 | J111: =J110-J112-J113 -> 1049 | K111: =K110-K112-K113 -> 1048 | ... O111: =O110-O112-O113 -> 1174 | P111: =SUM(D111:O111) -> 13590
C112: EV | D112: 19 | E112: 2 | F112: 134 | G112: 218 | H112: 113 | I112: 123 | J112: 150 | K112: 61 | L112: 4 | M112: 17 | N112: 128 | O112: 11 | P112: =SUM(D112:O112) -> 980
C113: 니로 플러스 | D113: 2 | E113: 0 | F113: 86 | G113: 123 | H113: 67 | I113: 65 | J113: 14 | K113: 43 | L113: 3 | M113: 3 | N113: 1 | O113: 1 | P113: =SUM(D113:O113) -> 408
B115: 스포티지 | D115: =D84 -> 5934 | E115: =E84 -> 6991 | F115: =F84 -> 6736 | G115: =G84 -> 7179 | H115: =H84 -> 6644 | I115: =I84 -> 5815 | J115: =J84 -> 6235 | K115: =K84 -> 5988 | ... O115: =O84 -> 8428 | P115: =SUM(D115:O115) -> 74255
...

Sheet ⊙ 월별
A1: 구분 | C1: 국내 | F1: 해외 | I1: 계
C2: 세단·RV·상용 | D2: 특수 | F2: 세단·RV·상용 | G2: 특수 | I2: 세단·RV·상용 | J2: 특수
A3: 2025년 | B3: 1 | C3: =국내2!D29 -> 38403 | D3: =국내2!D32 -> 9 | E3: =C3+D3 -> 38412 | F3: 201300 | G3: 166 | H3: =F3+G3 -> 201466 | I3: =C3+F3 -> 239703 | J3: =D3+G3 -> 175 | K3: =I3+J3 -> 239878
B4: 2 | C4: =국내2!E29 -> 46003 | D4: =국내2!E32 -> 44 | E4: =C4+D4 -> 46047 | F4: 208027 | G4: 341 | H4: =F4+G4 -> 208368 | I4: =C4+F4 -> 254030 | J4: =D4+G4 -> 385 | K4: =I4+J4 -> 254415
B5: 3 | C5: =국내2!F29 -> 50006 | D5: 99 | E5: =C5+D5 -> 50105 | F5: 228079 | G5: 171 | H5: =F5+G5 -> 228250 | I5: =C5+F5 -> 278085 | J5: =D5+G5 -> 270 | K5: =I5+J5 -> 278355
B6: 4 | C6: =국내2!G29 -> 51005 | D6: =국내2!G32 -> 80 | E6: =C6+D6 -> 51085 | F6: 223145 | G6: 207 | H6: =F6+G6 -> 223352 | I6: =C6+F6 -> 274150 | J6: =D6+G6 -> 287 | K6: =I6+J6 -> 274437
B7: 5 | C7: =국내2!H29 -> 45003 | D7: =국내2!H32 -> 122 | E7: =C7+D7 -> 45125 | F7: 225088 | G7: 211 | H7: =F7+G7 -> 225299 | I7: =C7+F7 -> 270091 | J7: =D7+G7 -> 333 | K7: =I7+J7 -> 270424
B8: 6 | C8: =국내2!I29 -> 46003 | D8: =국내2!I32 -> 322 | E8: =C8+D8 -> 46325 | F8: 223377 | G8: 325 | H8: =F8+G8 -> 223702 | I8: =C8+F8 -> 269380 | J8: =D8+G8 -> 647 | K8: =I8+J8 -> 270027
B9: 7 | C9: =국내2!J29 -> 45017 | D9: =국내2!J32 -> 116 | E9: =C9+D9 -> 45133 | F9: 217288 | G9: 386 | H9: =F9+G9 -> 217674 | I9: =C9+F9 -> 262305 | J9: =D9+G9 -> 502 | K9: =I9+J9 -> 262807
B10: 8 | C10: =국내2!K29 -> 43501 | D10: 174 | E10: =C10+D10 -> 43675 | F10: 209901 | G10: 367 | H10: =F10+G10 -> 210268 | I10: =C10+F10 -> 253402 | J10: =D10+G10 -> 541 | K10: =I10+J10 -> 253943
B11: 9 | C11: =국내2!L29 -> 49001 | D11: =국내2!L32 -> 200 | E11: =C11+D11 -> 49201 | F11: 218929 | G11: 257 | H11: =F11+G11 -> 219186 | I11: =C11+F11 -> 267930 | J11: =D11+G11 -> 457 | K11: =I11+J11 -> 268387
B12: 10 | C12: =국내2!M29 -> 40001 | D12: =국내2!M32 -> 343 | E12: =C12+D12 -> 40344 | F12: 223014 | G12: 546 | H12: =F12+G12 -> 223560 | I12: =C12+F12 -> 263015 | J12: =D12+G12 -> 889 | K12: =I12+J12 -> 263904
B13: 11 | C13: =국내2!N29 -> 0 | D13: =국내2!N32 -> 0 | E13: =C13+D13 -> 0 | H13: =F13+G13 -> 0 | I13: =C13+F13 -> 0 | J13: =D13+G13 -> 0 | K13: =I13+J13 -> 0
B14: 12 | C14: =국내2!O29 -> 0 | D14: =국내2!O32 -> 0 | E14: =C14+D14 -> 0 | H14: =F14+G14 -> 0 | I14: =C14+F14 -> 0 | J14: =D14+G14 -> 0 | K14: =I14+J14 -> 0
B15: 계 | C15: =SUM(C3:C14) -> 453943 | D15: =SUM(D3:D14) -> 1509 | E15: =SUM(E3:E14) -> 455452 | F15: =SUM(F3:F14) -> 2178148 | G15: =SUM(G3:G14) -> 2977 | H15: =SUM(H3:H14) -> 2181125 | I15: =SUM(I3:I14) -> 2632091 | J15: =SUM(J3:J14) -> 4486 | K15: =SUM(K3:K14) -> 2636577
A17: 구분 | C17: 국내 | F17: 해외 | I17: 계
C18: 세단·RV·상용 | D18: 특수 | F18: 세단·RV·상용 | G18: 특수 | I18: 세단·RV·상용 | J18: 특수
A19: 2024년 | B19: 1 | C19: =국내2!D92 -> 44608 | D19: =국내2!D95 -> 75 | E19: =C19+D19 -> 44683 | F19: 200794 | G19: 109 | H19: =F19+G19 -> 200903 | I19: =C19+F19 -> 245402 | J19: =D19+G19 -> 184 | K19: =I19+J19 -> 245586
B20: 2 | C20: =국내2!E92 -> 44008 | D20: =국내2!E95 -> 68 | E20: =C20+D20 -> 44076 | F20: 198636 | G20: 205 | H20: =F20+G20 -> 198841 | I20: =C20+F20 -> 242644 | J20: =D20+G20 -> 273 | K20: =I20+J20 -> 242917
B21: 3 | C21: =국내2!F92 -> 49006 | D21: =국내2!F95 -> 106 | E21: =C21+D21 -> 49112 | F21: 222713 | G21: 186 | H21: =F21+G21 -> 222899 | I21: =C21+F21 -> 271719 | J21: =D21+G21 -> 292 | K21: =I21+J21 -> 272011
B22: 4 | C22: =국내2!G92 -> 47505 | D22: =국내2!G95 -> 126 | E22: =C22+D22 -> 47631 | F22: 213327 | G22: 325 | H22: =F22+G22 -> 213652 | I22: =C22+F22 -> 260832 | J22: =D22+G22 -> 451 | K22: =I22+J22 -> 261283
B23: 5 | C23: =국내2!H92 -> 46110 | D23: =국내2!H95 -> 125 | E23: =C23+D23 -> 46235 | F23: 218204 | G23: 260 | H23: =F23+G23 -> 218464 | I23: =C23+F23 -> 264314 | J23: =D23+G23 -> 385 | K23: =I23+J23 -> 264699
B24: 6 | C24: =국내2!I92 -> 44003 | D24: =국내2!I95 -> 281 | E24: =C24+D24 -> 44284 | F24: 224728 | G24: 189 | H24: =F24+G24 -> 224917 | I24: =C24+F24 -> 268731 | J24: =D24+G24 -> 470 | K24: =I24+J24 -> 269201
B25: 7 | C25: =국내2!J92 -> 46010 | D25: =국내2!J95 -> 228 | E25: =C25+D25 -> 46238 | F25: 215188 | G25: 372 | H25: =F25+G25 -> 215560 | I25: =C25+F25 -> 261198 | J25: =D25+G25 -> 600 | K25: =I25+J25 -> 261798
B26: 8 | C26: =국내2!K92 -> 40510 | D26: =국내2!K94 -> 174 | E26: =C26+D26 -> 40684 | F26: 210765 | G26: 471 | H26: =F26+G26 -> 211236 | I26: =C26+F26 -> 251275 | J26: =D26+G26 -> 645 | K26: =I26+J26 -> 251920
B27: 9 | C27: =국내2!L92 -> 38140 | D27: =국내2!L95 -> 129 | E27: =C27+D27 -> 38269 | F27: 211060 | G27: 571 | H27: =F27+G27 -> 211631 | I27: =C27+F27 -> 249200 | J27: =D27+G27 -> 700 | K27: =I27+J27 -> 249900
B28: 10 | C28: =국내2!M92 -> 46025 | D28: =국내2!M95 -> 385 | E28: =C28+D28 -> 46410 | F28: 218389 | G28: 545 | H28: =F28+G28 -> 218934 | I28: =C28+F28 -> 264414 | J28: =D28+G28 -> 930 | K28: =I28+J28 -> 265344
B29: 11 | C29: =국내2!N92 -> 48015 | D29: =국내2!N95 -> 177 | E29: =C29+D29 -> 48192 | F29: 215595 | G29: 399 | H29: =F29+G29 -> 215994 | I29: =C29+F29 -> 263610 | J29: =D29+G29 -> 576 | K29: =I29+J29 -> 264186
B30: 12 | C30: =국내2!O92 -> 46070 | D30: =국내2!O95 -> 262 | E30: =C30+D30 -> 46332 | F30: 193769 | G30: 354 | H30: =F30+G30 -> 194123 | I30: =C30+F30 -> 239839 | J30: =D30+G30 -> 616 | K30: =I30+J30 -> 240455
B31: 계 | C31: =SUM(C19:C30) -> 540010 | D31: =SUM(D19:D30) -> 2136 | E31: =SUM(E19:E30) -> 542146 | F31: =SUM(F19:F30) -> 2543168 | G31: =SUM(G19:G30) -> 3986 | H31: =SUM(H19:H30) -> 2547154 | I31: =SUM(I19:I30) -> 3083178 | J31: =SUM(J19:J30) -> 6122 | K31: =SUM(K19:K30) -> 3089300
