Workbook

Sheet 1월
A2: GM 한국사업장 2026년 1월 판매실적
A3: 내수
A4: 구 분 | D4: '26. 1. | E4: '25. 12. | F4: '25. 1. | G4: 전월대비증감 | H4: 전년동월대비
B5: 스파크 | D5: 0 | E5: 0 | F5: 0 | G5: =IFERROR((D5-E5)/E5,"-") -> - | H5: =(D5-F5)/F5 -> #DIV/0!
B6: 소형 | C6: 아베오 | D6: 0 | E6: 0 | F6: 0 | G6: =IFERROR((D6-E6)/E6,"-") -> - | H6: =IFERROR((D6-F6)/F6,"-") -> -
C7: 소 계 | D7: =SUM(D5:D6) -> 0 | E7: 0 | F7: =SUM(F5:F6) -> 0 | G7: =IFERROR((D7-E7)/E7,"-") -> - | H7: =IFERROR((D7-F7)/F7,"-") -> -
B8: 준중형 | C8: 크루즈 | D8: 0 | E8: 0 | F8: 0 | G8: =IFERROR((D8-E8)/E8,"-") -> - | H8: =IFERROR((D8-F8)/F8,"-") -> -
C9: 소 계 | D9: =SUM(D8) -> 0 | E9: 0 | F9: =SUM(F8) -> 0 | G9: =IFERROR((D9-E9)/E9,"-") -> - | H9: =IFERROR((D9-F9)/F9,"-") -> -
B10: 말리부 | D10: 0 | E10: 0 | F10: 0 | G10: =IFERROR((D10-E10)/E10,"-") -> - | H10: =IFERROR((D10-F10)/F10,"-") -> -
B11: 준대형 | C11: 임팔라 | E11: 0 | G11: =IFERROR((D11-E11)/E11,"-") -> - | H11: =IFERROR((D11-F11)/F11,"-") -> -
C12: 소 계 | D12: =SUM(D11) -> 0 | E12: 0 | F12: =SUM(F11) -> 0 | G12: =IFERROR((D12-E12)/E12,"-") -> - | H12: =IFERROR((D12-F12)/F12,"-") -> -
B13: 카마로 SS | D13: 0 | E13: 0 | F13: 0 | G13: =IFERROR((D13-E13)/E13,"-") -> - | H13: =IFERROR((D13-F13)/F13,"-") -> -
B14: 볼트(Volt) | D14: 0 | E14: 0 | F14: 0 | G14: =IFERROR((D14-E14)/E14,"-") -> - | H14: =IFERROR((D14-F14)/F14,"-") -> -
B15: 볼트 EV | D15: 0 | E15: 0 | F15: 0 | G15: =IFERROR((D15-E15)/E15,"-") -> - | H15: =IFERROR((D15-F15)/F15,"-") -> -
A16: 승용차 계 | D16: =SUM(D5:D15) -> 0 | E16: 0 | F16: =SUM(F5:F15) -> 0 | G16: =(D16-E16)/E16 -> #DIV/0! | H16: =(D16-F16)/F16 -> #DIV/0!
B17: 캡티바 | D17: 0 | E17: 0 | F17: 0 | G17: =IFERROR((D17-E17)/E17,"-") -> - | H17: =IFERROR((D17-F17)/F17,"-") -> -
B18: 올란도 | D18: 0 | E18: 0 | F18: 0 | G18: =IFERROR((D18-E18)/E18,"-") -> - | H18: =IFERROR((D18-F18)/F18,"-") -> -
B19: 트랙스 | D19: 0 | E19: 0 | F19: 0 | G19: =IFERROR((D19-E19)/E19,"-") -> - | H19: =IFERROR((D19-F19)/F19,"-") -> -
B20: 트랙스 크로스오버 | D20: 607 | E20: 950 | F20: 953 | G20: =IFERROR((D20-E20)/E20,"-") -> -0.36105263 | H20: =IFERROR((D20-F20)/F20,"-") -> -0.36306401
B21: 볼트 EUV | E21: 0 | F21: 0 | G21: =IFERROR((D21-E21)/E21,"-") -> - | H21: =IFERROR((D21-F21)/F21,"-") -> -
B22: 트레일블레이저 | D22: 121 | E22: 160 | F22: 199 | G22: =IFERROR((D22-E22)/E22,"-") -> -0.24375 | H22: =IFERROR((D22-F22)/F22,"-") -> -0.3919598
B23: 이쿼녹스 | E23: 0 | F23: 0 | G23: =IFERROR((D23-E23)/E23,"-") -> - | H23: =IFERROR((D23-F23)/F23,"-") -> -
B24: 트래버스 | E24: 0 | F24: 39 | G24: =IFERROR((D24-E24)/E24,"-") -> - | H24: =IFERROR((D24-F24)/F24,"-") -> -1
B25: 타호 | E25: 0 | F25: 14 | G25: =IFERROR((D25-E25)/E25,"-") -> - | H25: =IFERROR((D25-F25)/F25,"-") -> -1
B26: 시에라 | D26: 33 | E26: 16 | F26: 10 | G26: =IFERROR((D26-E26)/E26,"-") -> 1.0625 | H26: =IFERROR((D26-F26)/F26,"-") -> 2.3
A27: RV 계 | D27: =SUM(D17:D26) -> 761 | E27: 1126 | F27: =SUM(F17:F26) -> 1215 | G27: =(D27-E27)/E27 -> -0.32415631 | H27: =(D27-F27)/F27 -> -0.37366255
B28: 콜로라도 | D28: 4 | E28: 16 | F28: 14 | G28: =IFERROR((D28-E28)/E28,"-") -> -0.75 | H28: =IFERROR((D28-F28)/F28,"-") -> -0.71428571
B29: 다마스 | D29: 0 | E29: 0 | F29: 0 | G29: =IFERROR((D29-E29)/E29,"-") -> - | H29: =IFERROR((D29-F29)/F29,"-") -> -
B30: 라보 | D30: 0 | E30: 0 | F30: 0 | G30: =IFERROR((D30-E30)/E30,"-") -> - | H30: =IFERROR((D30-F30)/F30,"-") -> -
A31: 경상용차 계 | D31: =SUM(D28:D30) -> 4 | E31: 16 | F31: =SUM(F28:F30) -> 14 | G31: =(D31-E31)/E31 -> -0.75 | H31: =(D31-F31)/F31 -> -0.71428571
A32: 내수 판매 계 | D32: =SUM(D16,D27,D31) -> 765 | E32: 1142 | F32: =SUM(F16,F27,F31) -> 1229 | G32: =(D32-E32)/E32 -> -0.33012259 | H32: =(D32-F32)/F32 -> -0.37754272
A34: 해외판매 (선적 기준)
B35: 경승용차 | D35: 0 | E35: ='1월'!D35 -> 0 | F35: 0 | G35: =IFERROR((D35-E35)/E35,"-") -> - | H35: =IFERROR((D35-F35)/F35,"-") -> -
B36: 소형승용차 | D36: 0 | E36: ='1월'!D36 -> 0 | F36: 0 | G36: =IFERROR((D36-E36)/E36,"-") -> - | H36: =IFERROR((D36-F36)/F36,"-") -> -
B37: 준중형승용차 | D37: 0 | E37: ='1월'!D37 -> 0 | F37: 0 | G37: =IFERROR((D37-E37)/E37,"-") -> - | H37: =IFERROR((D37-F37)/F37,"-") -> -
B38: 트랙스 | D38: 0 | E38: ='1월'!D38 -> 0 | F38: 0 | G38: =IFERROR((D38-E38)/E38,"-") -> - | H38: =IFERROR((D38-F38)/F38,"-") -> -
A39: RV | B39: 트레일블레이저 (파생모델 포함) | D39: 17078 | E39: 18520 | F39: 9522 | G39: =IFERROR((D39-E39)/E39,"-") -> -0.077861771 | H39: =IFERROR((D39-F39)/F39,"-") -> 0.79353077
B40: 트랙스 크로스오버 (파생모델 포함) | D40: 26860 | E40: 32838 | F40: 20867 | G40: =IFERROR((D40-E40)/E40,"-") -> -0.18204519 | H40: =IFERROR((D40-F40)/F40,"-") -> 0.28719988
B41: 중대형승용차 | D41: 0 | E41: ='1월'!D41 -> 0 | F41: 0 | G41: =IFERROR((D41-E41)/E41,"-") -> - | H41: =IFERROR((D41-F41)/F41,"-") -> -
A42: 해외판매 계 | D42: =SUM(D35:D41) -> 43938 | E42: =SUM(E35:E41) -> 51358 | F42: =SUM(F35:F41) -> 30389 | G42: =(D42-E42)/E42 -> -0.14447603 | H42: =(D42-F42)/F42 -> 0.44585212
...
